BEGIN:VCALENDAR
VERSION:2.0
CALSCALE:GREGORIAN
PRODID:https://kalender.karlsruhe.de/db/termine/
METHOD:PUBLISH
BEGIN:VEVENT
UID:580703
ORGANIZER;CN=Kinemathek Karlsruhe e.V.:MAILTO:info@kinemathek-karlsruhe.de
LOCATION:Kinemathek Karlsruhe e.V.
SUMMARY:MaschenKino - Stricken und Häkeln mit Film
DESCRIPTION;ENCODING=QUOTED-PRINTABLE:=E2=80=9E22 Bahnen=E2=80=9C von Mia Maariel Meyer\, DE 2025\; 102 Min.=0D=0A=0D=0A  B
 eim MaschenKino kannst Du nach Herzenslust stricken oder h=C3=A4keln\, w=C3
 =A4hrend im Hintergrund ein Film l=C3=A4uft. Das Licht im Kino ist gedimmt\,
  sodass die Maschen noch gut zu sehen sind. Schnapp dir deine Nadeln\, dein 
 Garn und deine Freundinnen und Freunde =E2=80=93 hier treffen sich Handarbe
 itsfans f=C3=BCr gem=C3=BCtliche Stunden mit Kino-Flair in der Kinemathek. 
  =0D=0A    Zum Film:=C2=A0Tilda studiert Mathematik\, jobbt nebenbei und h=C3=A4
 lt zu Hause vieles  zusammen: eine alkohols=C3=BCchtige Mutter\, eine j=C3
 =BCngere Schwester\, zu viel  Verantwortung und zu wenig Luft zum Atmen. Ruh
 e findet sie ausgerechnet  in einem strengen Ritual im Schwimmbad =E2=80=93
  22 Bahnen\, Tag f=C3=BCr Tag =E2=80=93 bis  eine Begegnung und eine berufli
 che Chance alles komplizierter machen.  Der Film zeigt pr=C3=A4zise\, wie F
 =C3=BCrsorge zur Last werden kann\, und was es  kostet\, sich ein eigenes Leb
 en zu erlauben =20
URL:https://kalender.karlsruhe.de/db/termine/stadtleben/maschenkino_stricken_und_hakeln_mit_film-9
CLASS:PUBLIC
DTSTART:20260509T170000
DTEND:20260509T190000
DTSTAMP:20260409T112405
CATEGORIES:Stadtleben
ATTACH:https://kalender.karlsruhe.de/db/termine/stadtleben/maschenkino_stricken_und_hakeln_mit_film-9/file/icon__MaschenKino_Film_Hoch.jpg
END:VEVENT

END:VCALENDAR
