BEGIN:VCALENDAR
VERSION:2.0
CALSCALE:GREGORIAN
PRODID:https://kalender.karlsruhe.de/db/termine/
METHOD:PUBLISH
BEGIN:VEVENT
UID:579721
ORGANIZER;CN=Stadt Karlsruhe – Kinderbüro:MAILTO:kinderbuero@karlsruhe.de
LOCATION:Online Veranstaltung
SUMMARY:Medien in der Kleinkinderwelt
DESCRIPTION;ENCODING=QUOTED-PRINTABLE:Online-Veranstaltung vom Kinderb=C3=BCro der Stadt Karlsruhe=0D=0A=0D=0A  Medien si
 nd aus unserem Alltag =E2=80=93 auch  dem von Babys und Kleinkindern =E2=80
 =93 nicht mehr wegzudenken. Schon die  J=C3=BCngsten zeigen Interesse an di
 gitalen Angeboten. Doch wie sollten  Eltern damit umgehen? Welche Medien si
 nd geeignet und was ist  altersgerecht? Und wie lassen sich Konflikte oder 
 Wutausbr=C3=BCche rund um  die Nutzung vermeiden oder gut begleiten?    Auc
 h  kleine Kinder sp=C3=BCren\, wenn Eltern viel am Handy sind und die gemein
 same  Kommunikation leidet. Welchen Einfluss hat unsere eigene Mediennutzun
 g  auf ihre Entwicklung =E2=80=93 und wie k=C3=B6nnen wir dabei ein gutes V
 orbild sein?    Referent:     Tanja Burkhardt    mit     Karin Roth    \, Be
 ratungsstelle Fr=C3=BChe Hilfen    Die Veranstaltung richtet sich an Eltern
  mit Kindern ab dem Alter von 0-3 Jahren\, die sich mit diesen Fragen besch
 =C3=A4ftigen wollen. =20
URL:https://kalender.karlsruhe.de/db/termine/stadtleben/medien_in_der_kleinkinderwelt-1
CLASS:PUBLIC
DTSTART:20260507T200000
DTEND:20260507T210000
DTSTAMP:20260303T104736
CATEGORIES:Stadtleben
ATTACH:https://kalender.karlsruhe.de/db/termine/stadtleben/medien_in_der_kleinkinderwelt-1/file/icon_ON-AIR-mit-Schrift-Kalender.jpg
END:VEVENT

END:VCALENDAR
