BEGIN:VCALENDAR
VERSION:2.0
CALSCALE:GREGORIAN
PRODID:https://kalender.karlsruhe.de/db/termine/
METHOD:PUBLISH
BEGIN:VEVENT
UID:579330
ORGANIZER;CN=Naturschutzzentrum Karlsruhe-Rappenwört:MAILTO:info@nazka.de
LOCATION:Naturschutzzentrum Karlsruhe-Rappenwört
SUMMARY:Multivisionsschau: „Tarnen und Täuschen“ über (fast) unsichtbare Tiere
DESCRIPTION;ENCODING=QUOTED-PRINTABLE:Multivisionsschau=0D=0A=0D=0A  Foto: =C2=A9Armin Hofmann    Blo=C3=9F nicht auffall
 en! Das ist eine der wichtigsten Regeln bei vielen Tieren. Im allgemeinen K
 ampf ums Dasein gibt es zwei M=C3=B6glichkeiten: Tarnen und T=C3=A4uschen! 
 Ein Ziel - und dieses Ziel hei=C3=9Ft Leben und =C3=9Cberleben\, wenn=E2=80
 =99s denn klappt!  =0D=0A  Fressen und Gefressen werden - ein Sprichwort\, das s
 ich besonders im Tierreich bewahrheitet. Manche Tiere verteidigen sich mit 
 Z=C3=A4hnen und Klauen\, andere gehen eher subtiler vor\, wenn es um ihre Sel
 bsterhaltung geht. Die besten Zukunftschancen hat normalerweise\, wer sich a
 m schnellsten und am geschicktesten an den Lebensraum anpasst. Und dazu gib
 t es viele =E2=80=9EVerpackungen=E2=80=9C mit denen die Natur ihre Lebewese
 n ausger=C3=BCstet hat: Felle und Federn\, Schuppen und Schalen\, sowie H=C3
 =A4ute und Panzer. Besonders Farben spielen dabei eine entscheidende Rolle.
  Tja\, nicht nur wir Menschen arbeiten mit T=C3=A4uschungen und Tricks. Auch
  im Tierreich ist es zum Erfolgsrezept geworden. Manche Tiere benutzen das 
 Tarnen und T=C3=A4uschen als List\, um sich vor potenziellen Fressfeinden zu
  sch=C3=BCtzen\, andere verwenden diese Mittel\, um sich auf der Jagd nach Be
 ute eine g=C3=BCnstige Ausgangsposition zu verschaffen.  =0D=0A  Vielleicht hab
 en sich ja Tierfotografen\, F=C3=B6rster und auch J=C3=A4ger das ein wenig a
 bgeguckt. Denn f=C3=BCr die Natur- bzw. Wildlife-Fotografie gelten =C3=A4hn
 liche Kriterien wie beim Jagen: ger=C3=A4uschlos sollte man sein und ungese
 hen sollte man bleiben\, wenn man Erfolg haben will      Referent    : Armin
  Hofmann\, Naturfotograf\, Kempten  =0D=0A     Kostenfreie Veranstaltung        A
 nmeldung bis 21.4.2026=C2=A0erforderlich   =20
URL:https://kalender.karlsruhe.de/db/termine/stadtleben/multivisionsschau_tarnen_und_tauschen
CLASS:PUBLIC
DTSTART:20260422T170000
DTEND:20260422T174500
DTSTAMP:20260223T081007
CATEGORIES:Stadtleben
ATTACH:https://kalender.karlsruhe.de/db/termine/stadtleben/multivisionsschau_tarnen_und_tauschen/file/icon_024 Wendehals.jpg
END:VEVENT

END:VCALENDAR
