BEGIN:VCALENDAR
VERSION:2.0
CALSCALE:GREGORIAN
PRODID:https://kalender.karlsruhe.de/db/termine/
METHOD:PUBLISH
BEGIN:VEVENT
UID:577901
ORGANIZER;CN=Netzwerk Demenz Karlsruhe:MAILTO:vernetzung-demenz@sjb.karlsruhe.de
LOCATION:Naturkundemuseum KA
SUMMARY:Museum erleben für Menschen mit Demenz und ihre Begleiter*innen
DESCRIPTION;ENCODING=QUOTED-PRINTABLE:Ein Angebot des Netzwerk Demenz Karlsruhe=0D=0A=0D=0A  Ganz nach dem Motto =E2=80
 =9EGemeinsam eine gute Zeit verbringen=E2=80=9C laden wir Sie\, Menschen mit
  Demenz und Ihre Angeh=C3=B6rigen/Begleiter*innen ein\, eine spannende und i
 nteressante Zeit im Naturkundemuseum Karlsruhe zu erleben. Brigit Grosshans
 \, Demenzberaterin und Anna Ziegler\, Gerontologin (FH) am Geriatrischen Zent
 rum Karlsruhe begleiten Sie. Den Eintritt ins Museum =C3=BCbernimmt das Net
 zwerk Demenz Karlsruhe.    Bitte melden Sie sich beim Seniorenb=C3=BCro der
  Stadt Karlsruhe an.  =0D=0A  Telefon:     0721 133-5022    oder E-Mail:     ve
 rnetzung-demenz@sjb.karlsruhe.de   =20
URL:https://kalender.karlsruhe.de/db/termine/stadtleben/museum_erleben_fur_menschen_mit_demenz-8
CLASS:PUBLIC
DTSTART:20260618T143000
DTEND:20260618T163000
DTSTAMP:20260318T141131
CATEGORIES:Stadtleben
ATTACH:https://kalender.karlsruhe.de/db/termine/stadtleben/museum_erleben_fur_menschen_mit_demenz-8/file/icon_Netzwerk-Demenz.jpg
END:VEVENT

END:VCALENDAR
