BEGIN:VCALENDAR
VERSION:2.0
CALSCALE:GREGORIAN
PRODID:https://kalender.karlsruhe.de/db/termine/
METHOD:PUBLISH
BEGIN:VEVENT
UID:579331
ORGANIZER;CN=Naturschutzzentrum Karlsruhe-Rappenwört:MAILTO:info@nazka.de
LOCATION:Naturschutzzentrum Karlsruhe-Rappenwört
SUMMARY:N-Challenge: Digital im Auenwald
DESCRIPTION;ENCODING=QUOTED-PRINTABLE:F=C3=BCr Kinder von 6 bis 11 Jahren=0D=0A=0D=0A  Gemeinsam begeben wir uns auf eine
 n spannenden Spaziergang durch den Wald - begleitet von digitalen Ger=C3=A4
 ten. Ob zur Orientierung\, f=C3=BCr kleine Aufgaben unterwegs oder zum Festh
 alten besonderer Momente: Technik hilft uns\, die Natur einmal ganz anders z
 u entdecken. Spielerisch verbinden wir digitale Impulse mit echten Naturerl
 ebnissen und erkunden\, wie beides zusammenpassen kann.  =0D=0A      Leitung:   
  Emilia Bauer\, Naturfreunde Karlsruhe  =0D=0A     Kostenfreie Veranstaltung    
     Anmeldung bis 15.04.2026 erforderlich.   =20
URL:https://kalender.karlsruhe.de/db/termine/stadtleben/n_challenge_digital_im_auenwald
CLASS:PUBLIC
DTSTART:20260424T150000
DTEND:20260424T173000
DTSTAMP:20260223T081014
CATEGORIES:Stadtleben
ATTACH:https://kalender.karlsruhe.de/db/termine/stadtleben/n_challenge_digital_im_auenwald/file/icon_Digitalisierung N-Challenge.jpg
END:VEVENT

END:VCALENDAR
