BEGIN:VCALENDAR
VERSION:2.0
CALSCALE:GREGORIAN
PRODID:https://kalender.karlsruhe.de/db/termine/
METHOD:PUBLISH
BEGIN:VEVENT
UID:580232
ORGANIZER;CN=Naturschutzzentrum Karlsruhe-Rappenwört:MAILTO:info@nazka.de
LOCATION:Naturschutzzentrum Karlsruhe-Rappenwört
SUMMARY:N-Challenge: Mobilität - unterwegs auf vielen Wegen
DESCRIPTION;ENCODING=QUOTED-PRINTABLE:F=C3=BCr Kinder von 6-11 Jahren=0D=0A=0D=0A  Wie kommen wir von A nach B - und was 
 bedeutet das f=C3=BCr Umwelt und Klima? Wir entdecken verschiedene Fortbewe
 gungsmittel\, vergleichen ihre Vor- und Nachteile und =C3=BCberlegen\, welche
  Wege nachhaltig m=C3=B6glich sind. Mit Spielen\, kleinen Aufgaben und Natur
 bezug erkunden wir\, wie Mobilit=C3=A4t in unserem Alltag und im Wald eine R
 olle spielt. Gemeinsam entwickeln wir Ideen\, wie wir uns bewusst und klimaf
 reundlich bewegen k=C3=B6nnen.        Leitung:    Emilia Bauer\, Naturfreund
 e Karlsruhe  =0D=0A     Kosten:    kostenfrei      Anmeldung bis 18.09.26 erfor
 derlich.   =20
URL:https://kalender.karlsruhe.de/db/termine/stadtleben/n_challenge_mobilitat_unterwegs_auf_vielen_wegen
CLASS:PUBLIC
DTSTART:20260925T150000
DTEND:20260925T170000
DTSTAMP:20260324T102234
CATEGORIES:Stadtleben
ATTACH:https://kalender.karlsruhe.de/db/termine/stadtleben/n_challenge_mobilitat_unterwegs_auf_vielen_wegen/file/icon_Logo Nazka 3,0 cm.jpg
END:VEVENT

END:VCALENDAR
