BEGIN:VCALENDAR
VERSION:2.0
CALSCALE:GREGORIAN
PRODID:https://kalender.karlsruhe.de/db/termine/
METHOD:PUBLISH
BEGIN:VEVENT
UID:580546
ORGANIZER;CN=Naturschutzzentrum Karlsruhe-Rappenwört:MAILTO:info@nazka.de
LOCATION:Naturschutzzentrum Karlsruhe-Rappenwört
SUMMARY:Natürliche Hautpflege aus Wald & Wiese – einfach selbermachen
DESCRIPTION;ENCODING=QUOTED-PRINTABLE:Workshop=0D=0A=0D=0A  Nat=C3=BCrliche Hautpflege selber machen? Das ist einfacher a
 ls viele denken und braucht keine Spezialausr=C3=BCstung. Wie Sie Handcreme
 \, Deo\, Lippenbalsam\, After-Bite-Roll-on oder eine K=C3=B6rperlotion mit wen
 igen Zutaten in der eigenen K=C3=BCche herstellen k=C3=B6nnen =E2=80=93 aus
 schlie=C3=9Flich mit Naturzutaten und selbstverst=C3=A4ndlich ohne Chemie 
 =E2=80=93 das lernen Sie in diesem Workshop.    Der Kurs ist auch f=C3=BCr 
 Anf=C3=A4nger geeignet.  =0D=0A   Inhalte:    1 =E2=80=93 Einf=C3=BChrung in di
 e =E2=80=9EGr=C3=BCne Kosmetik=E2=80=9C    2 =E2=80=93 Welche Zutaten brauc
 he ich f=C3=BCr DIY-Hautpflege?    3 =E2=80=93 Tipps f=C3=BCr die Herstellu
 ng in der eigenen K=C3=BCche    4 =E2=80=93 Gemeinsam Naturkosmetik herstel
 len\, z.B. Deo\, Lippenbalsam\, After-Bite-Roll-on\, Handcreme\, Sch=C3=BCttello
 tion    Weitere Infos: Anja Schu=C3=A9 Tel. 017634310185 E-Mail=C2=A0connec
 t@natur-verbunden.net      Leitung    : Anja Schu=C3=A9\, Ern=C3=A4hrungswis
 senschaftlerin und Kr=C3=A4utererlebnisp=C3=A4dagogin  =0D=0A     Kosten:    24
  =E2=82=AC / Erwachsener\, 12 =E2=82=AC / Kind (+ Materialkosten: 8 =E2=82
 =AC / Person)      Anmeldung mit=C2=A0Vorab=C3=BCberweisung der Teilnahmege
 b=C3=BChr=C2=A0bis 05.11.2026=C2=A0erforderlich     =20
URL:https://kalender.karlsruhe.de/db/termine/stadtleben/naturliche_hautpflege_aus_wald_wiese
CLASS:PUBLIC
DTSTART:20261108T140000
DTEND:20261108T170000
DTSTAMP:20260330T081907
CATEGORIES:Stadtleben
ATTACH:https://kalender.karlsruhe.de/db/termine/stadtleben/naturliche_hautpflege_aus_wald_wiese/file/icon_Logo Nazka 3,0 cm.jpg
END:VEVENT

END:VCALENDAR
