BEGIN:VCALENDAR
VERSION:2.0
CALSCALE:GREGORIAN
PRODID:https://kalender.karlsruhe.de/db/termine/
METHOD:PUBLISH
BEGIN:VEVENT
UID:578248
ORGANIZER;CN=Gartenbauamt Stadt Karlsruhe:MAILTO:oeffentlichkeitsarbeit@gba.karlsruhe.de
LOCATION:Private Gärten und Höfe der Offenen Pforte
SUMMARY:Offene Pforte - Der Autarke
DESCRIPTION;ENCODING=QUOTED-PRINTABLE:Siedlerstra=C3=9Fe 2\, 76185 Karlsruhe Gr=C3=BCnwinkel=0D=0A=0D=0A  Der circa 1.950 
 Quadratmeter gro=C3=9Fe Garten verbindet =C3=B6kologische Vielfalt mit nach
 haltiger Nutzung. Im Vorgarten befinden sich zwei Hochbeete f=C3=BCr den Ge
 m=C3=BCseanbau sowie umfangreiche Blumenbeete. Die H=C3=A4user sind mit beg
 r=C3=BCnten D=C3=A4chern ausgestattet und leisten einen wertvollen Beitrag 
 zum Mikroklima und zur Artenvielfalt. Auf der Terrasse gedeihen im Sommer r
 und 20 verschiedene Tomatensorten sowie Bananenstauden. Im hinteren Gartenb
 ereich haben Ziegen\, Schafe und H=C3=BChner ihren Lebensraum. Ziel ist eine
  weitgehend autarke\, naturnahe Bewirtschaftung im Einklang mit der Umwelt. 
 =20
URL:https://kalender.karlsruhe.de/db/termine/stadtleben/offene_pforte_der_autarke
CLASS:PUBLIC
DTSTART:20260725T110000
DTEND:20260725T170000
DTSTAMP:20260130T081401
CATEGORIES:Stadtleben
ATTACH:https://kalender.karlsruhe.de/db/termine/stadtleben/offene_pforte_der_autarke/file/icon_20240624-MMG-Siedlerstraße2-037.jpg
END:VEVENT

END:VCALENDAR
