BEGIN:VCALENDAR
VERSION:2.0
CALSCALE:GREGORIAN
PRODID:https://kalender.karlsruhe.de/db/termine/
METHOD:PUBLISH
BEGIN:VEVENT
UID:578232
ORGANIZER;CN=Gartenbauamt Stadt Karlsruhe:MAILTO:oeffentlichkeitsarbeit@gba.karlsruhe.de
LOCATION:Private Gärten und Höfe der Offenen Pforte
SUMMARY:Offene Pforte - Der Bauerngarten
DESCRIPTION;ENCODING=QUOTED-PRINTABLE:Dreik=C3=B6nigstra=C3=9Fe 22\, 76187 Karlsruhe Knielingen=0D=0A=0D=0A  Der rund 210 
 Quadratmeter gro=C3=9Fe Innenhof\, zwischen Scheune und Wohnhaus gelegen\, wi
 rd durch das Ambiente der Geb=C3=A4ude\, die Fassadenbegr=C3=BCnungen und ei
 ne Vielzahl von T=C3=B6pfen mit K=C3=BCbelpflanzen\, Kr=C3=A4utern und Somme
 rblumen gepr=C3=A4gt. Der offene Charakter l=C3=A4dt zu Begegnungen ein\, wa
 s durch das Angebot der vielen Sitzgelegenheiten unterst=C3=BCtzt wird. Im 
 Herbst bilden die Weinreben ein Dach\, deren Trauben ebenso verkostet werden
  k=C3=B6nnen wie der selbstgepresste Apfelsaft. Zwischenzeitlich wurde der 
 Garten noch erheblich vergr=C3=B6=C3=9Fert\, und die ehemalige Scheune verbi
 ndet die Gartenteile. =20
URL:https://kalender.karlsruhe.de/db/termine/stadtleben/offene_pforte_der_bauerngarten
CLASS:PUBLIC
DTSTART:20260614T150000
DTEND:20260614T180000
DTSTAMP:20260121T135156
CATEGORIES:Stadtleben
ATTACH:https://kalender.karlsruhe.de/db/termine/stadtleben/offene_pforte_der_bauerngarten/file/icon_2016_Dreikoenigstraße 22_006_M-G.jpg
END:VEVENT

END:VCALENDAR
