BEGIN:VCALENDAR
VERSION:2.0
CALSCALE:GREGORIAN
PRODID:https://kalender.karlsruhe.de/db/termine/
METHOD:PUBLISH
BEGIN:VEVENT
UID:578243
ORGANIZER;CN=Gartenbauamt Stadt Karlsruhe:MAILTO:oeffentlichkeitsarbeit@gba.karlsruhe.de
LOCATION:Private Gärten und Höfe der Offenen Pforte
SUMMARY:Offene Pforte - Der Begegnende
DESCRIPTION;ENCODING=QUOTED-PRINTABLE:Basler-Tor-Stra=C3=9Fe 85\, 76227 Karlsruhe Durlach=0D=0A=0D=0A  Im rund 3.000 Quadr
 atmeter gro=C3=9Fen Gemeinschaftsgarten der NaturFreunde Durlach engagieren
  sich 16 Vereinsmitglieder. Sie pflegen pers=C3=B6nliche und gemeinschaftli
 che Beete\, die jeweils auf ganz eigene Weise gestaltet und mit viel Sorgfal
 t bepflanzt sind. So entsteht ein lebendiger Ort\, an dem Erfahrungen ausget
 auscht\, Zeit miteinander verbracht und die Vielfalt der Natur bewusst erleb
 t wird. Der Garten dient nicht nur dem G=C3=A4rtnern. Auch andere Vereinsgr
 uppen nutzen diesen besonderen Platz regelm=C3=A4=C3=9Fig. Die Kindergruppe
  =E2=80=9EUmweltdetektive=E2=80=9C entdeckt hier alle zwei Wochen die Natur
  und im Sommer probt eine Musikgruppe franz=C3=B6sische Chansons unter frei
 em Himmel. Dar=C3=BCber hinaus bildet der Garten eine stimmungsvolle Kuliss
 e f=C3=BCr vereinseigene Feste wie die =E2=80=9EBlaue Stunde=E2=80=9C oder 
 das Erntedankfest. Dieser Garten steht f=C3=BCr Begegnung\, Naturverbundenhe
 it und Vielfalt - ein kleines gr=C3=BCnes Refugium\, das Menschen zusammenf
 =C3=BChrt. =20
URL:https://kalender.karlsruhe.de/db/termine/stadtleben/offene_pforte_der_begegnende
CLASS:PUBLIC
DTSTART:20260705T110000
DTEND:20260705T160000
DTSTAMP:20260316T084436
CATEGORIES:Stadtleben
ATTACH:https://kalender.karlsruhe.de/db/termine/stadtleben/offene_pforte_der_begegnende/file/icon_4.jpg
END:VEVENT

END:VCALENDAR
