BEGIN:VCALENDAR
VERSION:2.0
CALSCALE:GREGORIAN
PRODID:https://kalender.karlsruhe.de/db/termine/
METHOD:PUBLISH
BEGIN:VEVENT
UID:578223
ORGANIZER;CN=Gartenbauamt Stadt Karlsruhe:MAILTO:oeffentlichkeitsarbeit@gba.karlsruhe.de
LOCATION:Private Gärten und Höfe der Offenen Pforte
SUMMARY:Offene Pforte - Der Blockinnenhof
DESCRIPTION;ENCODING=QUOTED-PRINTABLE:Karolinenstra=C3=9Fe 10\, 76135 Karlsruhe Beiertheim=0D=0A=0D=0A  Dieser etwa 150 Qu
 adratmeter gro=C3=9Fe Garten ist Teil eines Blockinnenhofs\, den ein Mieter 
 achtsam unterh=C3=A4lt und pflegt. Die anderen Hausbewohner erfreuen sich s
 o an einem gr=C3=BCnen und bl=C3=BChenden Raum vor ihrem Zuhause\, der Energ
 ie spendet. W=C3=A4hrend der Besichtigungszeit kann man direkt von der Haus
 t=C3=BCr bis zum Hof durchgehen. Neben einem Sitzplatz ist dort ein Auslauf
  f=C3=BCr die kleinen Beiertheimer Idyll beheimateten Schildkr=C3=B6ten und
  davor ein Beet mit mehreren Bonsaipflanzen. Ein Teil der Pflanzen in K=C3
 =BCbeln oder T=C3=B6pfen ist nicht winterfest und =C3=BCberwintert im Kelle
 r. Im Sommer werden einige Kr=C3=A4uter\, Stauden und Geh=C3=B6lze sowie ver
 schiedene Sommerblumen und Tomaten gepflanzt. Einen zweiten Teil des Hofes 
 betreuen Mieter des Nachbarhauses. =20
URL:https://kalender.karlsruhe.de/db/termine/stadtleben/offene_pforte_der_blockinnenhof
CLASS:PUBLIC
DTSTART:20260509T100000
DTEND:20260509T170000
DTSTAMP:20260121T135156
CATEGORIES:Stadtleben
ATTACH:https://kalender.karlsruhe.de/db/termine/stadtleben/offene_pforte_der_blockinnenhof/file/icon_Karolinenstraße 10_DSC_M-G (3).jpg
END:VEVENT

END:VCALENDAR
