BEGIN:VCALENDAR
VERSION:2.0
CALSCALE:GREGORIAN
PRODID:https://kalender.karlsruhe.de/db/termine/
METHOD:PUBLISH
BEGIN:VEVENT
UID:578247
ORGANIZER;CN=Gartenbauamt Stadt Karlsruhe:MAILTO:oeffentlichkeitsarbeit@gba.karlsruhe.de
LOCATION:Private Gärten und Höfe der Offenen Pforte
SUMMARY:Offene Pforte - Der Familiäre
DESCRIPTION;ENCODING=QUOTED-PRINTABLE:Neckarstra=C3=9Fe 15\, 76199 Karlsruhe R=C3=BCppurr=0D=0A=0D=0A  Eine f=C3=BCnfk=C3
 =B6pfige Familie m=C3=B6chte die Pforte ihres kleinen\, aber abwechslungsrei
 chen und komplett selbst angelegten Stadtgarten vorstellen. Auf zwei Ebenen
  gibt es eine Menge zu entdecken. Im unteren Bereich liegt ein kleiner Schw
 immteich mit Biotop\, ein Gew=C3=A4chshaus und die Spielfl=C3=A4che f=C3=BCr
  die Kinder eingerahmt von Rabatten. Im oberen Bereich befindet sich der Nu
 tzgarten mit kleinem Gem=C3=BCsebeet\, H=C3=BChnergehege und Beerenstr=C3=A4
 uchern\, sowie nat=C3=BCrlich jede Menge Blumen und Rosenb=C3=B6gen. =20
URL:https://kalender.karlsruhe.de/db/termine/stadtleben/offene_pforte_der_familiare
CLASS:PUBLIC
DTSTART:20260719T090000
DTEND:20260719T120000
DTSTAMP:20260127T081920
CATEGORIES:Stadtleben
ATTACH:https://kalender.karlsruhe.de/db/termine/stadtleben/offene_pforte_der_familiare/file/icon_Aktuelles Foto_Neckarstraße 15.jpg
END:VEVENT

END:VCALENDAR
