BEGIN:VCALENDAR
VERSION:2.0
CALSCALE:GREGORIAN
PRODID:https://kalender.karlsruhe.de/db/termine/
METHOD:PUBLISH
BEGIN:VEVENT
UID:579436
ORGANIZER;CN=Gartenbauamt Stadt Karlsruhe:MAILTO:oeffentlichkeitsarbeit@gba.karlsruhe.de
LOCATION:Private Gärten und Höfe der Offenen Pforte
SUMMARY:Offene Pforte - Der Florale
DESCRIPTION;ENCODING=QUOTED-PRINTABLE:Holtzstra=C3=9Fe 5\, Karlsruhe - S=C3=BCdweststadt=0D=0A=0D=0A  Ein Gartengrundst=C3
 =BCck im Hintergrund einer Blockrandbebauung nahe dem ZKM\, das durch die ba
 ulichen Ver=C3=A4nderungen der letzten Jahrzehnte von Au=C3=9Fen kaum wahrg
 enommen wird. Vor ungef=C3=A4hr 100 Jahren wurde an dieser Stelle eine Zier
 pflanzeng=C3=A4rtnerei gegr=C3=BCndet und auch heute werden auf dem Grundst
 =C3=BCck noch Sommerblumen f=C3=BCr den Schnitt angebaut. Alte Steineinfass
 ungen von Fr=C3=BChbeetk=C3=A4sten zeugen von der fr=C3=BCheren Nutzung als
  Gartenbaubetrieb. =20
URL:https://kalender.karlsruhe.de/db/termine/stadtleben/offene_pforte_der_florale
CLASS:PUBLIC
DTSTART:20260830T130000
DTEND:20260830T170000
DTSTAMP:20260303T104751
CATEGORIES:Stadtleben
ATTACH:https://kalender.karlsruhe.de/db/termine/stadtleben/offene_pforte_der_florale/file/icon_28 - Der Florale.jpg
END:VEVENT

END:VCALENDAR
