BEGIN:VCALENDAR
VERSION:2.0
CALSCALE:GREGORIAN
PRODID:https://kalender.karlsruhe.de/db/termine/
METHOD:PUBLISH
BEGIN:VEVENT
UID:578582
ORGANIZER;CN=Gartenbauamt Stadt Karlsruhe:MAILTO:oeffentlichkeitsarbeit@gba.karlsruhe.de
LOCATION:Private Gärten und Höfe der Offenen Pforte
SUMMARY:Offene Pforte - Der Gefiederte
DESCRIPTION;ENCODING=QUOTED-PRINTABLE:Im Grund gegen=C3=BCber der Sozialen G=C3=A4rten des af-ka\, Wolfartsweier=0D=0A
 =0D=0A  Ein rund 800 qm gro=C3=9Fer Garten wurde von einem klassischen Nutzgart
 en zu einer vielseitigen Freizeit- und Erholungsoase weiterentwickelt. Gem
 =C3=BCsebeete\, Obstb=C3=A4ume\, Beerenstr=C3=A4ucher und Stauden bieten reic
 he Ernte. F=C3=BCnf gl=C3=BCckliche H=C3=BChner bereichern den Garten und s
 chaffen eine lebendige Atmosph=C3=A4re. Ein gro=C3=9Fer\, alter Kirschbaum s
 pendet Schatten und l=C3=A4dt zum Verweilen ein. Totholzhecken dienen als n
 at=C3=BCrlicher Sichtschutz und bieten zugleich wertvollen Lebensraum f=C3
 =BCr Igel und V=C3=B6gel.    =0D=0A =20
URL:https://kalender.karlsruhe.de/db/termine/stadtleben/offene_pforte_der_gefiederte
CLASS:PUBLIC
DTSTART:20260704T130000
DTEND:20260704T170000
DTSTAMP:20260130T081400
CATEGORIES:Stadtleben
ATTACH:https://kalender.karlsruhe.de/db/termine/stadtleben/offene_pforte_der_gefiederte/file/icon_Bild4.jpg
END:VEVENT

END:VCALENDAR
