BEGIN:VCALENDAR
VERSION:2.0
CALSCALE:GREGORIAN
PRODID:https://kalender.karlsruhe.de/db/termine/
METHOD:PUBLISH
BEGIN:VEVENT
UID:578246
ORGANIZER;CN=Gartenbauamt Stadt Karlsruhe:MAILTO:oeffentlichkeitsarbeit@gba.karlsruhe.de
LOCATION:Private Gärten und Höfe der Offenen Pforte
SUMMARY:Offene Pforte - Der Hausgarten
DESCRIPTION;ENCODING=QUOTED-PRINTABLE:T=C3=BCbinger Stra=C3=9Fe 2\, 76228 Gr=C3=BCnwettersbach=0D=0A=0D=0A  Ein Grundst=C3
 =BCck mit gro=C3=9Fer Terrasse\, dessen etwa 350 Quadratmeter gro=C3=9Fer Ga
 rten ein gr=C3=BCnes Band entlang des Hauses bildet. Ein kleines Gew=C3=A4c
 hshaus im viktorianischen Stil f=C3=BCgt sich in die von Hortensien\, Staude
 n und Sommerblumen gepr=C3=A4gte Pflanzung ein. =20
URL:https://kalender.karlsruhe.de/db/termine/stadtleben/offene_pforte_der_hausgarten
CLASS:PUBLIC
DTSTART:20260712T120000
DTEND:20260712T180000
DTSTAMP:20260122T141321
CATEGORIES:Stadtleben
ATTACH:https://kalender.karlsruhe.de/db/termine/stadtleben/offene_pforte_der_hausgarten/file/icon_P1010436.jpg
END:VEVENT

END:VCALENDAR
