BEGIN:VCALENDAR
VERSION:2.0
CALSCALE:GREGORIAN
PRODID:https://kalender.karlsruhe.de/db/termine/
METHOD:PUBLISH
BEGIN:VEVENT
UID:578229
ORGANIZER;CN=Gartenbauamt Stadt Karlsruhe:MAILTO:oeffentlichkeitsarbeit@gba.karlsruhe.de
LOCATION:Private Gärten und Höfe der Offenen Pforte
SUMMARY:Offene Pforte - Der Heimelige
DESCRIPTION;ENCODING=QUOTED-PRINTABLE:Schwimmschulweg Kleingartenverein Oberrerut-Heidst=C3=BCcker e.V Schreberga
 rten Nr.72=0D=0A=0D=0A  Eingebettet in den idyllischen Wald von Oberreut erstreckt 
 sich auf rund 200 Quadratmetern ein liebevoll gestalteter Garten\, der natur
 nahe Elemente mit einer gem=C3=BCtlichen und erholsamen Atmosph=C3=A4re ver
 bindet. Bl=C3=BChinseln\, Totholzbereiche und eine artenreiche Bienenwiese s
 chaffen wertvollen Lebensraum f=C3=BCr zahlreiche Insekten und andere klein
 e Waldbewohner und f=C3=B6rdern aktiv die Biodiversit=C3=A4t. In der passen
 den Jahreszeit gedeihen hier Gem=C3=BCse und Obst. Eine einladende Gartenla
 ube mit angrenzender Rasenfl=C3=A4che l=C3=A4dt zum Verweilen\, Entspannen u
 nd Genie=C3=9Fen ein.    =0D=0A =20
URL:https://kalender.karlsruhe.de/db/termine/stadtleben/offene_pforte_der_heimelige
CLASS:PUBLIC
DTSTART:20260531T110000
DTEND:20260531T170000
DTSTAMP:20260129T103904
CATEGORIES:Stadtleben
ATTACH:https://kalender.karlsruhe.de/db/termine/stadtleben/offene_pforte_der_heimelige/file/icon_Garten 72 (11 von 1).jpg
END:VEVENT

END:VCALENDAR
