BEGIN:VCALENDAR
VERSION:2.0
CALSCALE:GREGORIAN
PRODID:https://kalender.karlsruhe.de/db/termine/
METHOD:PUBLISH
BEGIN:VEVENT
UID:578239
ORGANIZER;CN=Gartenbauamt Stadt Karlsruhe:MAILTO:oeffentlichkeitsarbeit@gba.karlsruhe.de
LOCATION:Private Gärten und Höfe der Offenen Pforte
SUMMARY:Offene Pforte - Der Idyllische
DESCRIPTION;ENCODING=QUOTED-PRINTABLE:Rastatter Stra=C3=9Fe 17\, 76199 R=C3=BCppurr=0D=0A=0D=0A  Idyllischer Garten auf de
 r S=C3=BCdseite des denkmalgesch=C3=BCtzten =E2=80=9ERoten Hauses=E2=80=9C.
  Gro=C3=9Fe schatten-spendende B=C3=A4ume\, drei Sitzgelegenheiten\, eine dav
 on auf einer Steinterrasse mit Tischen und Sonnenschutz =E2=80=93 Einladung
  sich niederzulassen\, um die Atmosph=C3=A4re des Naturgartens zu genie=C3
 =9Fen. Der Garten ist durch Ligusterhecken sichtgesch=C3=BCtzt zum Nachbarg
 el=C3=A4nde abgegrenzt. =20
URL:https://kalender.karlsruhe.de/db/termine/stadtleben/offene_pforte_der_idyllische
CLASS:PUBLIC
DTSTART:20260627T140000
DTEND:20260627T170000
DTSTAMP:20260122T141322
CATEGORIES:Stadtleben
ATTACH:https://kalender.karlsruhe.de/db/termine/stadtleben/offene_pforte_der_idyllische/file/icon_20210611_183423_Quelle Das rote Haus.jpg
END:VEVENT

END:VCALENDAR
