BEGIN:VCALENDAR
VERSION:2.0
CALSCALE:GREGORIAN
PRODID:https://kalender.karlsruhe.de/db/termine/
METHOD:PUBLISH
BEGIN:VEVENT
UID:578238
ORGANIZER;CN=Gartenbauamt Stadt Karlsruhe:MAILTO:oeffentlichkeitsarbeit@gba.karlsruhe.de
LOCATION:Private Gärten und Höfe der Offenen Pforte
SUMMARY:Offene Pforte - Der Klimaangepasste
DESCRIPTION;ENCODING=QUOTED-PRINTABLE:BiotanicGARDEN Kleingartenanlage S=C3=B6llingen=0D=0A=0D=0A  Der BiotanicGARDEN ist
  ein Werkstattgarten\, in dem experimentiert wird\, wie sich G=C3=A4rt-ner*in
 nen auf den Klimawandel vorbereiten k=C3=B6nnen. Daf=C3=BCr starten wir ein
  innovatives Bildungsprojekt: Es geht uns darum\, Menschen zu motivieren\, da
 s G=C3=A4rtnern neu zu entdecken und neu zu denken\, f=C3=BCr Natur und ihre
  Prozesse zu sensibilisieren und zu begeistern. Einen Ort zu schaffen\, der 
 nachhaltige L=C3=B6sungen f=C3=BCr den klimagestressten Garten in der Regio
 n experimentiert und Interessierte einl=C3=A4dt eine nachhaltige Zukunft ak
 tiv mitzugestalten\, sich zu bilden oder aber einfach "nur" etwas Freiraum\, 
 gute Luft und gute Laune in ihrer Gartencommunity zu genie=C3=9Fen.  =0D=0A  De
 r Garten liegt am Waldrand mit Blick auf den Nordschwarzwald inmitten des N
 aherholungsgebietes Pfinztal. Er bietet die M=C3=B6glichkeit dem Stadtleben
  zu entfliehen und einzutauchen in eine gr=C3=BCne Oase voller Tierges=C3
 =A4nge\, Wolkenspiele und Naturerlebnisse. Ein R=C3=BCckzugsort zum Entspann
 en und Erden\, zum Wahrnehmen und F=C3=BChlen.  =0D=0A  Weitere Informationen gi
 bt es auf Instagram @biotanic.garden  =0D=0A  Anfahrt: Burgstra=C3=9Fe\, 250 Met
 er nach Weinhof Rupp rechts abbiegen\, 250 Meter weiterlaufen.  Bitte: CO2-n
 eutrale Anreise (Koordinaten gerne auf Anfrage) =20
URL:https://kalender.karlsruhe.de/db/termine/stadtleben/offene_pforte_der_klimaangepasste-1
CLASS:PUBLIC
DTSTART:20260919T140000
DTEND:20260919T160000
DTSTAMP:20260127T081920
CATEGORIES:Stadtleben
ATTACH:https://kalender.karlsruhe.de/db/termine/stadtleben/offene_pforte_der_klimaangepasste-1/file/icon_Copyright_Biotanic_Garden-21.22.25.jpg
END:VEVENT

END:VCALENDAR
