BEGIN:VCALENDAR
VERSION:2.0
CALSCALE:GREGORIAN
PRODID:https://kalender.karlsruhe.de/db/termine/
METHOD:PUBLISH
BEGIN:VEVENT
UID:578237
ORGANIZER;CN=Gartenbauamt Stadt Karlsruhe:MAILTO:oeffentlichkeitsarbeit@gba.karlsruhe.de
LOCATION:Private Gärten und Höfe der Offenen Pforte
SUMMARY:Offene Pforte - Der Klimaangepasste
DESCRIPTION;ENCODING=QUOTED-PRINTABLE:BiotanicGARDEN Kleingartenanlage S=C3=B6llingen=0D=0A=0D=0A  Der BiotanicGARDEN ist
  ein Werkstattgarten\, in dem experimentiert wird\, wie sich G=C3=A4rtner*inn
 en auf den Klimawandel vorbereiten k=C3=B6nnen. Daf=C3=BCr starten wir ein 
 innovatives Bildungsprojekt: Es geht uns darum\, Menschen zu motivieren\, das
  G=C3=A4rtnern neu zu entdecken und neu zu denken\, f=C3=BCr Natur und ihre 
 Prozesse zu sensibilisieren und zu begeistern. Einen Ort zu schaffen\, der n
 achhaltige L=C3=B6sungen f=C3=BCr den klimagestressten Garten in der Region
  experimentiert und Interessierte einl=C3=A4dt eine nachhaltige Zukunft akt
 iv mitzugestalten\, sich zu bilden oder aber einfach etwas Freiraum\, gute Lu
 ft und gute Laune in ihrer Gartencommunity zu genie=C3=9Fen.  =0D=0A  Der Garte
 n liegt am Waldrand mit Blick auf den Nordschwarzwald inmitten des Naherhol
 ungsgebietes Pfinztal. Er bietet die M=C3=B6glichkeit dem Stadtleben zu ent
 fliehen und einzutauchen in eine gr=C3=BCne Oase voller Tierges=C3=A4nge\, W
 olkenspiele und Naturerlebnisse. Ein R=C3=BCckzugsort zum Entspannen und Er
 den\, zum Wahrnehmen und F=C3=BChlen.  =0D=0A  Weitere Informationen gibt es auf
  Instagram @biotanic.garden  =0D=0A  Anfahrt: Burgstra=C3=9Fe\, 250 Meter nach W
 einhof Rupp rechts abbiegen\, 250 Meter weiterlaufen.  Bitte: CO2-neutrale A
 nreise (Koordinaten gerne auf Anfrage) =20
URL:https://kalender.karlsruhe.de/db/termine/stadtleben/offene_pforte_der_klimaangepasste
CLASS:PUBLIC
DTSTART:20260620T140000
DTEND:20260620T160000
DTSTAMP:20260127T081920
CATEGORIES:Stadtleben
ATTACH:https://kalender.karlsruhe.de/db/termine/stadtleben/offene_pforte_der_klimaangepasste/file/icon_Copyright_Biotanic_Garden-21.22.25.jpg
END:VEVENT

END:VCALENDAR
