BEGIN:VCALENDAR
VERSION:2.0
CALSCALE:GREGORIAN
PRODID:https://kalender.karlsruhe.de/db/termine/
METHOD:PUBLISH
BEGIN:VEVENT
UID:578227
ORGANIZER;CN=Gartenbauamt Stadt Karlsruhe:MAILTO:oeffentlichkeitsarbeit@gba.karlsruhe.de
LOCATION:Private Gärten und Höfe der Offenen Pforte
SUMMARY:Offene Pforte - Der Konturgarten
DESCRIPTION;ENCODING=QUOTED-PRINTABLE:Fischerstra=C3=9Fe 8\, 76199 Karlsruhe R=C3=BCppurr=0D=0A=0D=0A  Von d=C3=BCnnen Hec
 kenw=C3=A4nden begrenzte R=C3=A4ume unterschiedlicher Dimensionen und Quali
 t=C3=A4ten verleihen dem rund 250 Quadratmeter gro=C3=9Fen Garten einer Dop
 pelhaush=C3=A4lfte Charakter. Im Bereich der Einfriedungen dienen die Hainb
 uchenhecken als Ger=C3=BCst f=C3=BCr Efeu. Der zentrale Aufenthaltsbereich 
 ist gepr=C3=A4gt durch einen Z=C3=BCrgelbaum\, der ein tragendes Element f
 =C3=BCr eine Ramblerrose =E2=80=9EPaul Noel=E2=80=9C darstellt. Die Bl=C3
 =BCte dieser Rose\, die ihre Pracht meist Ende Mai ent-facht\, ist ein besond
 erer H=C3=B6hepunkt dieses Gartens. Um diesen Mittelpunkt herum ordnen sich
  der Sonnenbereich\, der Nutzgarten und eine mit niedrigen Querriegeln aus B
 uchsbaum gegliederte Zone. Die Zwischenr=C3=A4ume sind mit Stauden bepflanz
 t. Nicht nur Beerenstr=C3=A4ucher\, sondern auch ein Birnbaum und Kiwipflanz
 en wachsen in diesem Garten. =20
URL:https://kalender.karlsruhe.de/db/termine/stadtleben/offene_pforte_der_konturgarten
CLASS:PUBLIC
DTSTART:20260530T130000
DTEND:20260530T180000
DTSTAMP:20260121T135156
CATEGORIES:Stadtleben
ATTACH:https://kalender.karlsruhe.de/db/termine/stadtleben/offene_pforte_der_konturgarten/file/icon_2016_Fischerstraße 8_033_M-G.jpg
END:VEVENT

END:VCALENDAR
