BEGIN:VCALENDAR
VERSION:2.0
CALSCALE:GREGORIAN
PRODID:https://kalender.karlsruhe.de/db/termine/
METHOD:PUBLISH
BEGIN:VEVENT
UID:578249
ORGANIZER;CN=Gartenbauamt Stadt Karlsruhe:MAILTO:oeffentlichkeitsarbeit@gba.karlsruhe.de
LOCATION:Private Gärten und Höfe der Offenen Pforte
SUMMARY:Offene Pforte - Der Künstlerische
DESCRIPTION;ENCODING=QUOTED-PRINTABLE:Roggenbachstra=C3=9Fe 8\, 76133 Karlsruhe Nordstadt=0D=0A=0D=0A  Zwei Hochbeete mit 
 Gew=C3=BCrzen und Gem=C3=BCse sowie ein Goldfischbecken laden ein zum Verwe
 ilen. Der hintere Teil des Gartens bildet den urigen und verwunschenen Part
 . Zudem k=C3=B6nnen dort verschiedensten Kunstobjekte entdeckt werden\, die 
 Hans J=C3=BCrgen Kurz in seinem Freiluftatelier selbstst=C3=A4ndig herstell
 t. =20
URL:https://kalender.karlsruhe.de/db/termine/stadtleben/offene_pforte_der_kunstlerische
CLASS:PUBLIC
DTSTART:20260905T140000
DTEND:20260905T180000
DTSTAMP:20260127T081920
CATEGORIES:Stadtleben
ATTACH:https://kalender.karlsruhe.de/db/termine/stadtleben/offene_pforte_der_kunstlerische/file/icon_Schmidt-Staub_6.jpg
END:VEVENT

END:VCALENDAR
