BEGIN:VCALENDAR
VERSION:2.0
CALSCALE:GREGORIAN
PRODID:https://kalender.karlsruhe.de/db/termine/
METHOD:PUBLISH
BEGIN:VEVENT
UID:578240
ORGANIZER;CN=Gartenbauamt Stadt Karlsruhe:MAILTO:oeffentlichkeitsarbeit@gba.karlsruhe.de
LOCATION:Private Gärten und Höfe der Offenen Pforte
SUMMARY:Offene Pforte - Der Lerngarten
DESCRIPTION;ENCODING=QUOTED-PRINTABLE:Waldparkplatz KIT\, Campus S=C3=BCd / Adenauerring 20\, 76131 Karlsruhe Innen
 stadt-Ost=0D=0A=0D=0A  Der =C3=B6kologische Lerngarten ist eine Einrichtung der P
 =C3=A4dagogischen Hochschule\, =C3=BCber die und in der sich die Studierende
 n Erfahrungen aneignen k=C3=B6nnen. Der Schulgarten umfasst auf einer Fl=C3
 =A4che\, die mit rund 9000 Quadratmetern gr=C3=B6=C3=9Fer ist als ein normal
 es Fu=C3=9Fballfeld\, Teilbereiche zu den Themen Stadtnatur\, Nutzgarten\, Gar
 ten f=C3=BCr die Sinne\, Biotope aus zweiter Hand und Sukzessionsfl=C3=A4che
 n mit einer gro=C3=9Fen Vielfalt typischer Pflanzen.  =0D=0A  =0D=0A  Weitere Infor
 mationen gibt es auf der Internetseite: www.ph-karlsruhe.de/campus/oekologi
 scher-lehr-lerngarten  =0D=0A    Der Garteneingang befindet sich auf der Nordse
 ite\, an der Einfahrt zum KIT-Parkplatz. =20
URL:https://kalender.karlsruhe.de/db/termine/stadtleben/offene_pforte_der_lerngarten
CLASS:PUBLIC
DTSTART:20260703T100000
DTEND:20260703T150000
DTSTAMP:20260122T141321
CATEGORIES:Stadtleben
ATTACH:https://kalender.karlsruhe.de/db/termine/stadtleben/offene_pforte_der_lerngarten/file/icon_PH-Lehrgarten_DSC_0021.jpg
END:VEVENT

END:VCALENDAR
