BEGIN:VCALENDAR
VERSION:2.0
CALSCALE:GREGORIAN
PRODID:https://kalender.karlsruhe.de/db/termine/
METHOD:PUBLISH
BEGIN:VEVENT
UID:578226
ORGANIZER;CN=Gartenbauamt Stadt Karlsruhe:MAILTO:oeffentlichkeitsarbeit@gba.karlsruhe.de
LOCATION:Private Gärten und Höfe der Offenen Pforte
SUMMARY:Offene Pforte - Der Mitmach-Garten Ostring
DESCRIPTION;ENCODING=QUOTED-PRINTABLE:Ostring 9 (Zugang =C3=BCber Pfarrer-Junker-Weg)\, 76131 Karlsruhe Rintheim=0D=0A
 =0D=0A  Am Karlsruher Ostring w=C3=A4chst auf einer Fl=C3=A4che von circa 5.700
  qm ein gemeinschaftliches Gartenprojekt. Zum Gel=C3=A4nde geh=C3=B6ren ein
 e Obstwiese\, eine Magerwiese\, ein naturnaher Teich\, einige Einzel- und Geme
 inschaftsbeete\, Stauden\, Gew=C3=BCrzbeete\, eine Sitzecke mit k=C3=BCnstlich
 em Bachlauf\, Hecken\, Komposthaufen und mehr. Mit vielen Beteiligten entsteh
 t hier ein selbst gestalteter Ort f=C3=BCr Urban Gardening\, Biodiversit=C3
 =A4t und menschliche Begegnung.  Das ehemals als Schaugarten eines Steinhan
 dels gestaltete Gel=C3=A4nde wird jetzt genutzt vom Verein =E2=80=9EMitmach
 -Garten Ostring e.V.=E2=80=9C (gegr=C3=BCndet 2024). Eine =C3=B6kologische 
 und nachhaltige Bewirtschaftung ist den Mitgliedern ebenso wichtig wie eine
  anpackende Gemeinschaft und ein fr=C3=B6hliches Miteinander. Weitere Infor
 mationen gibt es auf der Internetseite: www.ostring.org =20
URL:https://kalender.karlsruhe.de/db/termine/stadtleben/offene_pforte_der_mitmach_garten_ostring
CLASS:PUBLIC
DTSTART:20260509T140000
DTEND:20260509T180000
DTSTAMP:20260218T084729
CATEGORIES:Stadtleben
ATTACH:https://kalender.karlsruhe.de/db/termine/stadtleben/offene_pforte_der_mitmach_garten_ostring/file/icon_20250513-MMG-Mitmachgarten-029 - Kopie.jpg
END:VEVENT

END:VCALENDAR
