BEGIN:VCALENDAR
VERSION:2.0
CALSCALE:GREGORIAN
PRODID:https://kalender.karlsruhe.de/db/termine/
METHOD:PUBLISH
BEGIN:VEVENT
UID:579245
ORGANIZER;CN=Gartenbauamt Stadt Karlsruhe:MAILTO:oeffentlichkeitsarbeit@gba.karlsruhe.de
LOCATION:Private Gärten und Höfe der Offenen Pforte
SUMMARY:Offene Pforte - Der Mitmach-Garten Rüppurr
DESCRIPTION;ENCODING=QUOTED-PRINTABLE:Holderweg 54\, 76199 Karlsruhe-R=C3=BCppurr=0D=0A=0D=0A  Der Mitmach-Garten R=C3=BCp
 purr e.V. ist ein offener Ort\, der alle zum Mitmachen einl=C3=A4dt.  =0D=0A  Zi
 el ist es\, unterschiedliche Menschen und Nutzungen zusammenzubringen\, die B
 iodiversit=C3=A4t auf dem Gel=C3=A4nde zu f=C3=B6rdern\, Menschen zum nachha
 ltigen G=C3=A4rtnern anzuleiten\, Impulse zur Selbstversorgung mit Lebensmit
 teln zu geben und gemeinschaftsbildende\, inklusive Prozesse anzusto=C3=9Fen
 . Es gibt vielf=C3=A4ltige Optionen\, dabei zu sein und sich im Mitmach-Gart
 en einzubringen. Alle sind herzlich willkommen. G=C3=A4rtnerisches Vorwisse
 n ist nicht erforderlich. Was es jedoch braucht\, ist die Freude daran\, geme
 insam zu g=C3=A4rtnern und nachhaltige\, gemeinschaftliche Projekte zu entwi
 ckeln.  =0D=0A  Weitere Informationen gibt es auf der Internetseite: www.mitmac
 h-garten.de    =0D=0A =20
URL:https://kalender.karlsruhe.de/db/termine/stadtleben/offene_pforte_der_mitmach_garten_ruppurr
CLASS:PUBLIC
DTSTART:20260530T140000
DTEND:20260530T180000
DTSTAMP:20260305T091011
CATEGORIES:Stadtleben
ATTACH:https://kalender.karlsruhe.de/db/termine/stadtleben/offene_pforte_der_mitmach_garten_ruppurr/file/icon_3_Susanne Frisch.jpg
END:VEVENT

END:VCALENDAR
