BEGIN:VCALENDAR
VERSION:2.0
CALSCALE:GREGORIAN
PRODID:https://kalender.karlsruhe.de/db/termine/
METHOD:PUBLISH
BEGIN:VEVENT
UID:578231
ORGANIZER;CN=Gartenbauamt Stadt Karlsruhe:MAILTO:oeffentlichkeitsarbeit@gba.karlsruhe.de
LOCATION:Private Gärten und Höfe der Offenen Pforte
SUMMARY:Offene Pforte - Der Nachbarschaftliche
DESCRIPTION;ENCODING=QUOTED-PRINTABLE:Innenhof zwischen Augarten-\, Gervinius-\, Scherr- und Sybelstra=C3=9Fe | 761
 37 Karlsruhe S=C3=BCdstadt=0D=0A=0D=0A  Das H=C3=A4userkarree wurde von 1898 bis 19
 00 errichtet. Anstelle von Hinterh=C3=A4usern legte der Mieter- und Bauvere
 in Gartenteile an. Vor einigen Jahren nun haben sich mehrere Anwohner der P
 flege\, Gestaltung und Weiterf=C3=BChrung des Gartens im Innenhof angenommen
 . Der Mieter- und Bauverein als Vermieter unterst=C3=BCtzt sie dabei intens
 iv. Die urspr=C3=BCngliche Anordnung der Parzellen wurde im Gro=C3=9Fen und
  Ganzen =C3=BCbernommen\, nur teilweise aufgelockert. Das gemeinschaftliche 
 Verantwortungs- und Bereicherungsgef=C3=BChl blieb dadurch erhalten. Entspr
 echend wird der Garten auch gesehen und genutzt. Mit diesem Konzept m=C3=B6
 chten die Anwohner erreichen\, dass Kontakte =C3=BCber den Hof und angrenzen
 de Stra=C3=9Fen hinweg entstehen und gepflegt werden\, dass es R=C3=BCckzugs
 - und Ruheorte im Gr=C3=BCnen gibt\, aber auch gemeinsame Hof- sowie private
  Feste dort gefeiert werden k=C3=B6nnen. Der gr=C3=BCne Hofraum mit vielen 
 Obstb=C3=A4umen\, einem Kr=C3=A4uterbeet das alle nutzen d=C3=BCrfen\, den 
 =C3=BCber sechzig Jahre alten Rosenst=C3=B6cken sowie einem Stauden- und So
 mmerblumenflor tr=C3=A4gt zur Belebung der vielf=C3=A4ltigen Pflanzen- und 
 auch Tierwelt bei.    =0D=0A =20
URL:https://kalender.karlsruhe.de/db/termine/stadtleben/offene_pforte_der_nachbarschaftliche
CLASS:PUBLIC
DTSTART:20260614T130000
DTEND:20260614T173000
DTSTAMP:20260121T135156
CATEGORIES:Stadtleben
ATTACH:https://kalender.karlsruhe.de/db/termine/stadtleben/offene_pforte_der_nachbarschaftliche/file/icon_Augarten-Gervinus-Scherr-Sybelstr_2018_15_M-G.jpg
END:VEVENT

END:VCALENDAR
