BEGIN:VCALENDAR
VERSION:2.0
CALSCALE:GREGORIAN
PRODID:https://kalender.karlsruhe.de/db/termine/
METHOD:PUBLISH
BEGIN:VEVENT
UID:578228
ORGANIZER;CN=Gartenbauamt Stadt Karlsruhe:MAILTO:oeffentlichkeitsarbeit@gba.karlsruhe.de
LOCATION:Private Gärten und Höfe der Offenen Pforte
SUMMARY:Offene Pforte - Der Naturnahe
DESCRIPTION;ENCODING=QUOTED-PRINTABLE:D=C3=BCrkheimer Stra=C3=9Fe 6\, 76187 Karlsruhe Nordweststadt=0D=0A=0D=0A  Der Gro
 =C3=9Fteil des circa 400 Quadratmeter gro=C3=9Fen Hausgartens ist als Natur
 garten mit Wildwiese und einem Trockenbeet entlang der Einfahrt sowie versc
 hiedenen Wildrosen\, Rankpflanzen\, Stauden\, Kr=C3=A4utern\, Str=C3=A4uchern u
 nd Obstb=C3=A4umen angelegt. Die Wildwiese hat der Naturgartenidee entsprec
 hend viele interessante Wildpflanzen. Durch die Bl=C3=BCten und die Wildwie
 senstruktur werden im Laufe des Jahres viele Insekten\, Bienen\, Hummeln und 
 Schmetterlinge angelockt. Ganz unterschiedliche heimische Kr=C3=A4uter habe
 n sich an diesem trockenen Standort gut entwickelt\, werden laufend weiter e
 rg=C3=A4nzt und gezielt gepflegt. Mediterrane Arten wie der M=C3=B6nchspfef
 fer mit seiner pr=C3=A4chtigen Bl=C3=BCte runden die Artenvielfalt ab. =20
URL:https://kalender.karlsruhe.de/db/termine/stadtleben/offene_pforte_der_naturnahe
CLASS:PUBLIC
DTSTART:20260531T130000
DTEND:20260531T170000
DTSTAMP:20260210T134624
CATEGORIES:Stadtleben
ATTACH:https://kalender.karlsruhe.de/db/termine/stadtleben/offene_pforte_der_naturnahe/file/icon_Wildblumenwiese_3_13.05.2025.jpg
END:VEVENT

END:VCALENDAR
