BEGIN:VCALENDAR
VERSION:2.0
CALSCALE:GREGORIAN
PRODID:https://kalender.karlsruhe.de/db/termine/
METHOD:PUBLISH
BEGIN:VEVENT
UID:579435
ORGANIZER;CN=Gartenbauamt Stadt Karlsruhe:MAILTO:oeffentlichkeitsarbeit@gba.karlsruhe.de
LOCATION:Private Gärten und Höfe der Offenen Pforte
SUMMARY:Offene Pforte - Der Permanente
DESCRIPTION;ENCODING=QUOTED-PRINTABLE:Donaustra=C3=9Fe 21\, 76199 Karlsruhe=0D=0A=0D=0A  In Karlsruhe-Weiherfeld wird geze
 igt\, wie aus einem typischen Vorstadtgarten eines Mehrfamilienhauses in kur
 zer Zeit ein lebendiger und ertragreicher Permakultur-Garten werden kann. O
 bstgeh=C3=B6lze und Beerenstr=C3=A4ucher bilden zusammen mit vielen mehrj
 =C3=A4hrigen\, essbaren Stauden einen vielf=C3=A4ltigen Lebensraum f=C3=BCr 
 V=C3=B6gel und Insekten und gleichzeitig einen ertragreichen Nutzgarten. De
 r Garten wird vollst=C3=A4ndig mit Regenwasser bew=C3=A4ssert\, Ernte=C3=BCb
 ersch=C3=BCsse werden mit Sonnenenergie ged=C3=B6rrt und viele Materialien 
 finden in kreativer Wiederverwendung ein zweites Leben. Ein lebendiges Beis
 piel daf=C3=BCr\, wie zukunftsf=C3=A4higes G=C3=A4rtnern auch im urbanen Rau
 m gelingen kann.    =0D=0A =20
URL:https://kalender.karlsruhe.de/db/termine/stadtleben/offene_pforte_der_permanente
CLASS:PUBLIC
DTSTART:20260621T140000
DTEND:20260621T170000
DTSTAMP:20260223T081308
CATEGORIES:Stadtleben
ATTACH:https://kalender.karlsruhe.de/db/termine/stadtleben/offene_pforte_der_permanente/file/icon_Adrian Ballbach.jpg
END:VEVENT

END:VCALENDAR
