BEGIN:VCALENDAR
VERSION:2.0
CALSCALE:GREGORIAN
PRODID:https://kalender.karlsruhe.de/db/termine/
METHOD:PUBLISH
BEGIN:VEVENT
UID:578245
ORGANIZER;CN=Gartenbauamt Stadt Karlsruhe:MAILTO:oeffentlichkeitsarbeit@gba.karlsruhe.de
LOCATION:Private Gärten und Höfe der Offenen Pforte
SUMMARY:Offene Pforte - Der Räumliche
DESCRIPTION;ENCODING=QUOTED-PRINTABLE:Zur Ziegelh=C3=BCtte 6\, 76228 Gr=C3=BCnwettersbach=0D=0A=0D=0A  Hinter der alten Fa
 chwerkscheune findet sich die rund 550 qm gro=C3=9Fe =E2=80=9EGartenwohnung
 =E2=80=9C der Familie. Die verschiedenen R=C3=A4ume wie Wohnzimmer\, Schlafz
 immer\, Badezimmer und Spielzimmer gehen flie=C3=9Fend ineinander =C3=BCber.
  Die von Sommerblumen umrahmte Speisekammer\, ein H=C3=BChnergarten und die 
 angrenzenden Sandsteingeb=C3=A4uden sowie Spalierobst\, Wein und Kletterrose
 n Rahmen die Wohnung ein und tragen zum l=C3=A4ndlichen Charme bei. Es find
 en sich au=C3=9Ferdem in den R=C3=A4umen zahlreiche Angebote f=C3=BCr Klein
 tiere und Insekten sowie viele dekorative Elemente\, die zum Entdecken und V
 erweilen einladen. =20
URL:https://kalender.karlsruhe.de/db/termine/stadtleben/offene_pforte_der_raumliche
CLASS:PUBLIC
DTSTART:20260712T110000
DTEND:20260712T170000
DTSTAMP:20260203T130341
CATEGORIES:Stadtleben
ATTACH:https://kalender.karlsruhe.de/db/termine/stadtleben/offene_pforte_der_raumliche/file/icon_IMG_4991.jpg
END:VEVENT

END:VCALENDAR
