BEGIN:VCALENDAR
VERSION:2.0
CALSCALE:GREGORIAN
PRODID:https://kalender.karlsruhe.de/db/termine/
METHOD:PUBLISH
BEGIN:VEVENT
UID:578241
ORGANIZER;CN=Gartenbauamt Stadt Karlsruhe:MAILTO:oeffentlichkeitsarbeit@gba.karlsruhe.de
LOCATION:Private Gärten und Höfe der Offenen Pforte
SUMMARY:Offene Pforte - Der Soziale
DESCRIPTION;ENCODING=QUOTED-PRINTABLE:Im Br=C3=BChl 1\, Arbeitsf=C3=B6rderung Karlsruhe gGmbH (afka)\, Gewann in Wo
 lfartsweier=0D=0A=0D=0A  Der Soziale Garten der Arbeitsf=C3=B6rderung Karlsruhe (af
 ka) pr=C3=A4sentiert auf =C3=BCber 7.000 Quadratmetern eine gro=C3=9Fe Viel
 falt. Obst\, Gem=C3=BCse\, Blumen und Heilkr=C3=A4uter werden hier nach =C3
 =B6kologischen Kriterien angebaut. Im gro=C3=9Fen Gew=C3=A4chshaus wachsen 
 w=C3=A4rmeliebende Pflanzen: =C3=9Cber 90 Tomatensorten in allen Farben und
  Formen\, aber auch weniger bekannte Gew=C3=A4chse kann man dort bestaunen. 
  Bis zu 30 langzeitarbeitslose Menschen finden im Sozialen Garten eine Besc
 h=C3=A4ftigung. Sie werden fachkundig angeleitet und bewirtschaften die ges
 amte Anbaufl=C3=A4che ohne Einsatz schwerer Maschinen. Eine naturnahe Gesta
 ltung bietet Lebensraum f=C3=BCr heimische Tiere\, unter anderem f=C3=BCr di
 e seltene Wechselkr=C3=B6te.  Der Garten ist nicht nur ein Arbeitsplatz\, so
 ndern auch ein Ort zum Lernen und Entdecken =E2=80=93 und eine Oase f=C3=BC
 r Menschen\, Tiere und Pflanzen.  =0D=0A  =0D=0A  Weitere Informationen erhalten Sie
  auf der Internetseite: https://www.af-ka.de/arbeitssuchende/taetigkeitsber
 eiche/sozialer-garten =20
URL:https://kalender.karlsruhe.de/db/termine/stadtleben/offene_pforte_der_soziale
CLASS:PUBLIC
DTSTART:20260704T130000
DTEND:20260704T170000
DTSTAMP:20260122T141321
CATEGORIES:Stadtleben
ATTACH:https://kalender.karlsruhe.de/db/termine/stadtleben/offene_pforte_der_soziale/file/icon_INITIAL_DSC_0019.jpg
END:VEVENT

END:VCALENDAR
