BEGIN:VCALENDAR
VERSION:2.0
CALSCALE:GREGORIAN
PRODID:https://kalender.karlsruhe.de/db/termine/
METHOD:PUBLISH
BEGIN:VEVENT
UID:578230
ORGANIZER;CN=Gartenbauamt Stadt Karlsruhe:MAILTO:oeffentlichkeitsarbeit@gba.karlsruhe.de
LOCATION:Private Gärten und Höfe der Offenen Pforte
SUMMARY:Offene Pforte - Der Tierfreundliche
DESCRIPTION;ENCODING=QUOTED-PRINTABLE:Pfeffer=C3=A4ckerstra=C3=9Fe 5\, 76228 Karlsruhe Stupferich=0D=0A=0D=0A  Der Garten 
 ist ungef=C3=A4hr 400 m=C2=B2 gro=C3=9F und befindet sich in leichter Hangl
 age. Er ist terrassenf=C3=B6rmig gestaltet mit Natursteintreppen und Wegen 
 aus Hackschnitzeln\, zwei Seen (Fr=C3=B6sche\, Kr=C3=B6ten\, Molche\, Libellen 
 usw.) mit einem kleinen Bachlauf\, Stauden und Str=C3=A4ucher\, Zierstr=C3=A4
 ucher als Abgrenzung\, Terrasse und zwei weitere Sitzpl=C3=A4tze auf verschi
 edenen Ebenen\, diverse Haufen aus Totholz und Steinen. =20
URL:https://kalender.karlsruhe.de/db/termine/stadtleben/offene_pforte_der_tierfreundliche
CLASS:PUBLIC
DTSTART:20260604T110000
DTEND:20260604T170000
DTSTAMP:20260121T135156
CATEGORIES:Stadtleben
ATTACH:https://kalender.karlsruhe.de/db/termine/stadtleben/offene_pforte_der_tierfreundliche/file/icon_DSC_8767.jpg
END:VEVENT

END:VCALENDAR
