BEGIN:VCALENDAR
VERSION:2.0
CALSCALE:GREGORIAN
PRODID:https://kalender.karlsruhe.de/db/termine/
METHOD:PUBLISH
BEGIN:VEVENT
UID:578244
ORGANIZER;CN=Gartenbauamt Stadt Karlsruhe:MAILTO:oeffentlichkeitsarbeit@gba.karlsruhe.de
LOCATION:Private Gärten und Höfe der Offenen Pforte
SUMMARY:Offene Pforte - Der Transformierte
DESCRIPTION;ENCODING=QUOTED-PRINTABLE:Durlacher Allee 10\, 76131 Karlsruhe Oststadt=0D=0A=0D=0A  Aus einem grauen Hinterho
 f wurde ein bl=C3=BChender Garten =E2=80=93 aus einem heruntergekommenen We
 rkstattgeb=C3=A4ude eine lichtdurchflutete Kunstgalerie. Betritt man nun du
 rch die einladende Toreinfahrt des Gr=C3=BCnderzeitwohnhauses den Garten\, v
 erschwinden sofort alle Alltagsger=C3=A4usche der Durlacher Allee. Ein gesc
 hwungener Natursteinweg f=C3=BChrt vorbei an bl=C3=BChenden B=C3=BCschen\, e
 iner Mahonie und einem Gingkobaum zu den einladenden roten Toren des R=C3
 =BCckgeb=C3=A4udes. Im Zentrum des sonnigen Gartens spendet ein feingliedri
 ger Ahornbaum Schatten. Kletterrosen und Clematis ranken an den Ziegelmauer
 n\, eine gro=C3=9Fe Glyzine erklimmt bereits die dritte Etage des Hauptgeb
 =C3=A4udes. Wo fr=C3=BCher rostige Autos vor sich hin d=C3=A4mmerten\, l=C3
 =A4dt nun eine h=C3=B6lzerne Weinlaube zum Verweilen. Anl=C3=A4sslich der 
 =E2=80=9EOffenen Pforte=E2=80=9C ist in der Galerie =E2=80=9EArt Tempto=E2
 =80=9C auch eine Ausstellung mit Bildwerken und Goldschmiedekunst von Rike 
 Riegels-Winsauer zu sehen. =20
URL:https://kalender.karlsruhe.de/db/termine/stadtleben/offene_pforte_der_transformierte
CLASS:PUBLIC
DTSTART:20260711T120000
DTEND:20260711T180000
DTSTAMP:20260122T141321
CATEGORIES:Stadtleben
ATTACH:https://kalender.karlsruhe.de/db/termine/stadtleben/offene_pforte_der_transformierte/file/icon_mai21_057_Quelle Burkhard Riegels.jpg
END:VEVENT

END:VCALENDAR
