BEGIN:VCALENDAR
VERSION:2.0
CALSCALE:GREGORIAN
PRODID:https://kalender.karlsruhe.de/db/termine/
METHOD:PUBLISH
BEGIN:VEVENT
UID:578233
ORGANIZER;CN=Gartenbauamt Stadt Karlsruhe:MAILTO:oeffentlichkeitsarbeit@gba.karlsruhe.de
LOCATION:Private Gärten und Höfe der Offenen Pforte
SUMMARY:Offene Pforte - Der Urbane
DESCRIPTION;ENCODING=QUOTED-PRINTABLE:Am Schloss Gottesaue | gegen=C3=BCber der Stra=C3=9Fenbahnhaltestelle Schlo
 ss Gottesaue / Hochschule f=C3=BCr Musik=0D=0A=0D=0A  Was Anfang 2013 noch ein fris
 ch einges=C3=A4ter\, r=C3=BCckgebauter Parkplatz war\, ist jetzt ein =C3=BCpp
 ig bl=C3=BChender Garten\, der f=C3=BCr viele Spazierg=C3=A4nger*innen ein a
 bwechslungsreicher Erholungsraum geworden ist. Ein "Hingucker" sind die gro
 =C3=9Fen Weidenbeete\, aber auch zahlreiche Hochbeete mit Essbarem sowie Erd
 beete mit bl=C3=BChenden Pflanzen. Sie bieten Lebensraum und Nahrung f=C3
 =BCr die zahlreichen Insekten und andere Tiere\, die unseren Garten besuchen
 . Gestaltet\, gepflegt und belebt wird unser Gemeinschaftsgarten von circa 3
 5 G=C3=A4rtner*innen. Weitere Informationen gibt es auf der Internetseite: 
 www.faechergaertner.de =20
URL:https://kalender.karlsruhe.de/db/termine/stadtleben/offene_pforte_der_urbane
CLASS:PUBLIC
DTSTART:20260621T150000
DTEND:20260621T180000
DTSTAMP:20260211T095707
CATEGORIES:Stadtleben
ATTACH:https://kalender.karlsruhe.de/db/termine/stadtleben/offene_pforte_der_urbane/file/icon_13 - Der Urbane.jpg
END:VEVENT

END:VCALENDAR
