BEGIN:VCALENDAR
VERSION:2.0
CALSCALE:GREGORIAN
PRODID:https://kalender.karlsruhe.de/db/termine/
METHOD:PUBLISH
BEGIN:VEVENT
UID:578222
ORGANIZER;CN=Gartenbauamt Stadt Karlsruhe:MAILTO:oeffentlichkeitsarbeit@gba.karlsruhe.de
LOCATION:Private Gärten und Höfe der Offenen Pforte
SUMMARY:Offene Pforte - Der Verwunschene
DESCRIPTION;ENCODING=QUOTED-PRINTABLE:Jahnstra=C3=9Fe 8\, 76133 Karlsruhe Innenstadt-West=0D=0A=0D=0A  Ein verwunschener\, 
 leicht verwilderter naturnaher Vor- und Hausgarten\, der sich =C3=BCber etwa
  400 Quadratmeter erstreckt. Dominierend ist die gro=C3=9Fe alte Eiche aus 
 der Zeit der Stadtgr=C3=BCndung. Die Mauern sind begr=C3=BCnt\, die Stra=C3
 =9Fenseite des Hauses schm=C3=BCckt eine Glyzinie. Vorgarten und Garten zei
 gen Fr=C3=BChjahrsbl=C3=BCher\, einige Stauden und Ziergeh=C3=B6lze wie Stra
 uchp=C3=A4onie\, Forsythie\, Scheinquitte und Rosen. =20
URL:https://kalender.karlsruhe.de/db/termine/stadtleben/offene_pforte_der_verwunschene
CLASS:PUBLIC
DTSTART:20260425T140000
DTEND:20260425T180000
DTSTAMP:20260211T095656
CATEGORIES:Stadtleben
ATTACH:https://kalender.karlsruhe.de/db/termine/stadtleben/offene_pforte_der_verwunschene/file/icon_Jahnstraße 8_DSC_M-G (5).jpg
END:VEVENT

END:VCALENDAR
