BEGIN:VCALENDAR
VERSION:2.0
CALSCALE:GREGORIAN
PRODID:https://kalender.karlsruhe.de/db/termine/
METHOD:PUBLISH
BEGIN:VEVENT
UID:578242
ORGANIZER;CN=Gartenbauamt Stadt Karlsruhe:MAILTO:oeffentlichkeitsarbeit@gba.karlsruhe.de
LOCATION:Private Gärten und Höfe der Offenen Pforte
SUMMARY:Offene Pforte - Der Waldgarten
DESCRIPTION;ENCODING=QUOTED-PRINTABLE:Im Fritschlachweg 1 | Im Jagdgrund\, Daxlanden=0D=0A=0D=0A  Ein wald=C3=A4hnlicher\, 
 verwunschener Garten umgibt das Gartenhaus und wirkt bewusst wild und nat
 =C3=BCrlich. Alte B=C3=A4ume schaffen eine ruhige Atmosph=C3=A4re. Hochbeet
 e mit Gem=C3=BCse bringen Leben und Nutzen in den Garten\, kleine Blumenraba
 tten setzen zarte Farbakzente. Alles f=C3=BCgt sich harmonisch in die Natur
  ein und l=C3=A4dt zum Verweilen und Entdecken ein.    =0D=0A =20
URL:https://kalender.karlsruhe.de/db/termine/stadtleben/offene_pforte_der_waldgarten
CLASS:PUBLIC
DTSTART:20260704T110000
DTEND:20260704T140000
DTSTAMP:20260210T134611
CATEGORIES:Stadtleben
ATTACH:https://kalender.karlsruhe.de/db/termine/stadtleben/offene_pforte_der_waldgarten/file/icon_11.jpg
END:VEVENT

END:VCALENDAR
