BEGIN:VCALENDAR
VERSION:2.0
CALSCALE:GREGORIAN
PRODID:https://kalender.karlsruhe.de/db/termine/
METHOD:PUBLISH
BEGIN:VEVENT
UID:578652
ORGANIZER;CN=Gartenbauamt Stadt Karlsruhe:MAILTO:oeffentlichkeitsarbeit@gba.karlsruhe.de
LOCATION:Private Gärten und Höfe der Offenen Pforte
SUMMARY:Offene Pforte - Der Weitsichtige
DESCRIPTION;ENCODING=QUOTED-PRINTABLE:Stupfericher Weg 13\, Durlach=0D=0A=0D=0A  Anwesen mit besonderem Grundriss und Fern
 sicht. Am Scheitelpunkt zwischen Durlach und Stupferich (Thomashof) befinde
 t sich dieses etwa 1.200 Quadratmeter gro=C3=9Fe Anwesen\, das in verschiede
 ne Bereiche gegliedert ist. Der hausnahe\, mit einer Hainbuchenhecke eingefr
 iedete Garten bietet viele Sitzgelegenheiten. Von der anschlie=C3=9Fenden T
 errasse\, die den Wohnbereich mit dem Garten verbindet\, erh=C3=A4lt man eine
 n wunderbaren Ausblick auf die Landschaft. Zwischen Wohnhaus\, Wirtschaftsge
 b=C3=A4ude und Weg befindet sich der Nutzgarten mit Obstb=C3=A4umen und H
 =C3=BChnergehege.    =0D=0A =20
URL:https://kalender.karlsruhe.de/db/termine/stadtleben/offene_pforte_der_weitsichtige-1
CLASS:PUBLIC
DTSTART:20260927T130000
DTEND:20260927T170000
DTSTAMP:20260210T134602
CATEGORIES:Stadtleben
ATTACH:https://kalender.karlsruhe.de/db/termine/stadtleben/offene_pforte_der_weitsichtige-1/file/icon_Stupfericher Weg_DSC_M-G (14).jpg
END:VEVENT

END:VCALENDAR
