BEGIN:VCALENDAR
VERSION:2.0
CALSCALE:GREGORIAN
PRODID:https://kalender.karlsruhe.de/db/termine/
METHOD:PUBLISH
BEGIN:VEVENT
UID:577721
ORGANIZER;CN=Alpha-Marketing:MAILTO:info@karlsruher-oktoberfest.de
LOCATION:Karlsruhe Messplatz
SUMMARY:Oktoberfest Karlsruhe
DESCRIPTION;ENCODING=QUOTED-PRINTABLE:Ein einzigartiges Fest mit tollen Bands\, Top-Acts und der gewohnt gro=C3=9F
 artigen Atmosph=C3=A4re.=0D=0A=0D=0A  Live-Musik an allen Tagen von 18 bis 23 Uhr. 
  =0D=0A  Mit dabei unter anderem Vanessa Mai & Firma Holunder\, Calvin Kleinen\, 
 Frenzy und viele andere.    Die begehrten Tisch- und Einzelpl=C3=A4tze gibt
 's seit 12. Dezember 2025 wie gewohnt bei Ticketmaster    =0D=0A =20
URL:https://kalender.karlsruhe.de/db/termine/stadtleben/oktoberfest_karlsruhe-2
CLASS:PUBLIC
DTSTART:20261008T180000
DTEND:20261010T230000
DTSTAMP:20260120T120048
CATEGORIES:Stadtleben
ATTACH:https://kalender.karlsruhe.de/db/termine/stadtleben/oktoberfest_karlsruhe-2/file/icon_Oktoberfest.jpg
END:VEVENT

END:VCALENDAR
