BEGIN:VCALENDAR
VERSION:2.0
CALSCALE:GREGORIAN
PRODID:https://kalender.karlsruhe.de/db/termine/
METHOD:PUBLISH
BEGIN:VEVENT
UID:580078
ORGANIZER;CN=Kino im Blauen Salon:MAILTO:info@kinoimblauensalon.de
LOCATION:Blauer Salon in der HfG Karlsruhe
SUMMARY:OPEN AIR: A Bout de Souffle (35mm OmU)
DESCRIPTION;ENCODING=QUOTED-PRINTABLE:Frankreich 1960 Regie: Jean-Luc Godard=0D=0A=0D=0A  Warum nicht einfach gemeinsam a
 bhauen? Der Kleinganove Michel und seine amerikanische Bekanntschaft Patric
 ia verk=C3=B6rpern in diesem Meilenstein der Nouvelle Vague das Ideal einer
  freien\, wenn auch komplizierten Liebe\, die damals ebenso in der Luft lag w
 ie der cineastische Aufbruch. Eigentlich wollte Michel (Jean-Paul Belmondo)
  mit einem gestohlenen Wagen nach Italien fliehen. Doch nachdem er auf der 
 Flucht einen Polizisten erschossen hat\, muss er in Paris untertauchen. Dort
  trifft er Patricia (Jean Seberg) wieder\, die auf den Champs-=C3=89lys=C3
 =A9es Zeitungen verkauft. Zwischen den beiden entspinnt sich eine lose Aff
 =C3=A4re\, gepr=C3=A4gt von Patricias Unverbindlichkeit =E2=80=93 ein Spannu
 ngsfeld\, das in zahlreichen legend=C3=A4ren Dialogen m=C3=BCndet. W=C3=A4hr
 enddessen zieht sich das Netz der Fahndung um Michel unaufhaltsam zusammen.
     Es gibt wohl kaum ein Werk\, das die Filmgeschichte so radikal in ein Vo
 rher und ein Nachher teilt wie Jean-Luc Godards Deb=C3=BCt. Mit einem souve
 r=C3=A4nen Handstreich warf er die konventionellen Gesetze des Kinos =C3=BC
 ber den Haufen und definierte die Spielregeln des Sehens und Zeigens v=C3
 =B6llig neu.      A Bout de Souffle    ist Teil des all j=C3=A4hrlichen Ope
 n Airs auf der Wiese vor der HfG. Dort erwarten euch ab 20:00 DJs\, Snacks\, 
 eine Bar und viel mehr.    Das Kino im Blauen Salon ist das studentische Ki
 no der HfG Karlsruhe.=C2=A0Unter dem Motto "Aller Anfang ist sch=C3=B6n!" w
 idmet sich diese=C2=A0Spielzeit ganz dem Thema Regiedeb=C3=BCt.=C2=A0Die Pr
 ogrammarbeit der Studierenden wurde 2024 von der Deutschen Kinemathek mit d
 em 1. Preis in der Kategorie =E2=80=9EKino das zur=C3=BCckblickt=E2=80=9C a
 usgezeichnet.      Mehr Infos unter www.kinoimblauensalon.de =20
URL:https://kalender.karlsruhe.de/db/termine/stadtleben/open_air_a_bout_de_souffle_35mm_omu
CLASS:PUBLIC
DTSTART:20260612T210000
DTEND:
DTSTAMP:20260316T084432
CATEGORIES:Stadtleben
ATTACH:https://kalender.karlsruhe.de/db/termine/stadtleben/open_air_a_bout_de_souffle_35mm_omu/file/icon_ABoutDeSouffle_Still_2.jpg
END:VEVENT

END:VCALENDAR
