BEGIN:VCALENDAR
VERSION:2.0
CALSCALE:GREGORIAN
PRODID:https://kalender.karlsruhe.de/db/termine/
METHOD:PUBLISH
BEGIN:VEVENT
UID:580080
ORGANIZER;CN=Kino im Blauen Salon:MAILTO:info@kinoimblauensalon.de
LOCATION:Blauer Salon in der HfG Karlsruhe
SUMMARY:OPEN AIR: As Tears Go By (35mm OmU)
DESCRIPTION;ENCODING=QUOTED-PRINTABLE:Hongkong 1988\, Regie: Wong Kar-Wai=0D=0A=0D=0A  In der skrupellosen\, neonbeleuchtet
 en Unterwelt Hongkongs ist Wah (Andy Lau) als Schuldeneintreiber f=C3=BCr d
 ie Mafia unterwegs und verbringt seine Zeit in Nachtclubs. Eines Tages steh
 t seine Cousine vom Lande vor der T=C3=BCr. Die sch=C3=B6ne Ah Ngor (Maggie
  Cheung) hat eine Lungenkrankheit und muss f=C3=BCr ein paar Tage ins naheg
 elegene Krankenhaus. Schon bald ist Wah hin- und hergerissen zwischen der a
 ufkeimenden Romanze mit Ngor und seiner Loyalit=C3=A4t zu seinem unberechen
 baren\, r=C3=BCcksichtslosen Partner in Crime. Dass die Geschichte nicht gut
  enden kann\, ist irgendwie von Anfang an klar.    Das bemerkenswerte Deb=C3
 =BCt von Wong Kar-wai vereint zwei Geschichten in einer: Unter der Oberfl
 =C3=A4che eines Genrefilms deutet sich jene poetische Handschrift an\, die s
 ich in Days of Being Wild (1990) und seinen folgenden Filmen immer weiter e
 ntwickelt. Dabei handelt es sich um weit mehr als nur eine fr=C3=BChe Et=C3
 =BCde =E2=80=93 er markiert den Auftakt eines filmischen Kosmos\, in dem Ein
 samkeit\, Begehren und Zeit in schwebende Bilder verwandelt werden.      As 
 Tears Go By    ist Teil des all j=C3=A4hrlichen Open Airs auf der Wiese vor
  der HfG. Dort erwarten euch ab 20 Uhr DJs\, Snacks\, eine Bar und noch viel 
 mehr.    Das Kino im Blauen Salon ist das studentische Kino der HfG Karlsru
 he.=C2=A0Unter dem Motto "Aller Anfang ist sch=C3=B6n!" widmet sich diese
 =C2=A0Spielzeit ganz dem Thema Regiedeb=C3=BCt.=C2=A0Die Programmarbeit der
  Studierenden wurde 2024 von der Deutschen Kinemathek mit dem 1. Preis in d
 er Kategorie =E2=80=9EKino das zur=C3=BCckblickt=E2=80=9C ausgezeichnet.   
    Mehr Infos unter www.kinoimblauensalon.de =20
URL:https://kalender.karlsruhe.de/db/termine/stadtleben/open_air_as_tears_go_by_35mm_omu
CLASS:PUBLIC
DTSTART:20260614T210000
DTEND:
DTSTAMP:20260326T084815
CATEGORIES:Stadtleben
ATTACH:https://kalender.karlsruhe.de/db/termine/stadtleben/open_air_as_tears_go_by_35mm_omu/file/icon_AsTearsGoBy_Filmstill_3.jpg
END:VEVENT

END:VCALENDAR
