BEGIN:VCALENDAR
VERSION:2.0
CALSCALE:GREGORIAN
PRODID:https://kalender.karlsruhe.de/db/termine/
METHOD:PUBLISH
BEGIN:VEVENT
UID:580081
ORGANIZER;CN=Kino im Blauen Salon:MAILTO:info@kinoimblauensalon.de
LOCATION:Blauer Salon in der HfG Karlsruhe
SUMMARY:OPEN AIR: Bottle Rocket (35mm engl. OF)
DESCRIPTION;ENCODING=QUOTED-PRINTABLE:USA 1996\, Regie: Wes Anderson=0D=0A=0D=0A  Anthony\, gerade aus einer psychiatrische
 n Klinik entlassen\, l=C3=A4sst sich von seinem exzentrischen Freund Dignan 
 in einen kuriosen =E2=80=9AKarriereplan=E2=80=98 als Verbrecher verwickeln.
  Gemeinsam mit dem sanftm=C3=BCtigen Bob begeben sie sich auf eine dilettan
 tische Odyssee durch Texas =E2=80=93 auf der Suche nach Abenteuern\, Zugeh
 =C3=B6rigkeit und dem gro=C3=9Fen Coup. Doch zwischen amateurhaften Raubz
 =C3=BCgen und emotionalen Irrwegen br=C3=B6ckelt die Fassade des gro=C3=9Fe
 n Plans schnell...      Bottle Rocket    ist Wes Andersons Langfilmdeb=C3
 =BCt und markiert den Beginn seiner Zusammenarbeit mit Owen und Luke Wilson
 \, die hier ihre ersten gro=C3=9Fen Rollen spielten. Der Film lebt von seine
 m lakonischen Humor\, der warmherzigen Charakterzeichnung jugendlicher Tr=C3
 =A4umer und einer charmanten Mischung aus Slacker-Kom=C3=B6die und leiser C
 oming-of-Age-Geschichte. Schon hier zeigt sich Andersons Gesp=C3=BCr f=C3
 =BCr stilisierte Bildkompositionen und jene ganz eigene emotionale Tonalit
 =C3=A4t\, die ihn bald zum pr=C3=A4genden Regisseur des amerikanischen Indie
 -Kinos machen sollte.      Bottle Rocket    ist Teil des all j=C3=A4hrliche
 n Open Airs auf der Wiese vor der HfG. Dort erwarten euch ab 20 Uhr DJs\, Sn
 acks\, eine Bar und noch viel mehr.    Das Kino im Blauen Salon ist das stud
 entische Kino der HfG Karlsruhe.=C2=A0Unter dem Motto "Aller Anfang ist sch
 =C3=B6n!" widmet sich diese=C2=A0Spielzeit ganz dem Thema Regiedeb=C3=BCt.
 =C2=A0Die Programmarbeit der Studierenden wurde 2024 von der Deutschen Kine
 mathek mit dem 1. Preis in der Kategorie =E2=80=9EKino das zur=C3=BCckblick
 t=E2=80=9C ausgezeichnet.      Mehr Infos unter www.kinoimblauensalon.de 
 =20
URL:https://kalender.karlsruhe.de/db/termine/stadtleben/open_air_bottle_rocket_35mm_engl_of
CLASS:PUBLIC
DTSTART:20260615T210000
DTEND:
DTSTAMP:20260316T084432
CATEGORIES:Stadtleben
ATTACH:https://kalender.karlsruhe.de/db/termine/stadtleben/open_air_bottle_rocket_35mm_engl_of/file/icon_BottleRocket_Still_6.jpg
END:VEVENT

END:VCALENDAR
