BEGIN:VCALENDAR
VERSION:2.0
CALSCALE:GREGORIAN
PRODID:https://kalender.karlsruhe.de/db/termine/
METHOD:PUBLISH
BEGIN:VEVENT
UID:580079
ORGANIZER;CN=Kino im Blauen Salon:MAILTO:info@kinoimblauensalon.de
LOCATION:Blauer Salon in der HfG Karlsruhe
SUMMARY:OPEN AIR: Die Wilden Kerle (35mm)
DESCRIPTION;ENCODING=QUOTED-PRINTABLE:Deutschland 2003\, Regie: Joachim Masannek=0D=0A=0D=0A  Hey Ho ihr kleinen Sterne un
 d Fensterscheiben aufgepasst: die wilden Kerle sind zur=C3=BCck und wollen 
 ihre hart verdienten Sommerferien in vollen Z=C3=BCgen genie=C3=9Fen! Doch 
 Hausarrest\, Eltern und ihre Erzfeinde\, die =E2=80=9EUnbesiegbaren Sieger=E2
 =80=9C\, machen ihnen einen Strich durch die Rechnung und nehmen sogar den B
 olzplatz ein. Unter Leons F=C3=BChrung trainieren die Kerle h=C3=A4rter den
 n je um im entscheidenden Spiel alles zur=C3=BCckzuerobern.      Die Wilden
  Kerle    ist nicht nur der erste Kinofilm des Kinderbuchautors Joachim Mas
 annek\, f=C3=BCr viele geh=C3=B6rt die Filmreihe zu den ersten Kinoerlebniss
 en =C3=BCberhaupt. Im ersten Teil ist es noch leicht\, sich der 2000er Nosta
 lgie hinzugeben. Leider ging im Lauf der Filme nicht nur Rufus Beck als Wil
 li verloren. Aus s=C3=BC=C3=9Fem Gekicke wurde irgendwie ein deutsches Twil
 ight.      Die Wilden Kerle    ist Teil des all j=C3=A4hrlichen Open Airs a
 uf der Wiese vor der HfG. Dort erwarten euch ab 20 Uhr DJs\, Snacks\, eine Ba
 r und noch viel mehr.    Das Kino im Blauen Salon ist das studentische Kino
  der HfG Karlsruhe.=C2=A0Unter dem Motto "Aller Anfang ist sch=C3=B6n!" wid
 met sich diese=C2=A0Spielzeit ganz dem Thema Regiedeb=C3=BCt.=C2=A0Die Prog
 rammarbeit der Studierenden wurde 2024 von der Deutschen Kinemathek mit dem
  1. Preis in der Kategorie =E2=80=9EKino das zur=C3=BCckblickt=E2=80=9C aus
 gezeichnet.      Mehr Infos unter www.kinoimblauensalon.de =20
URL:https://kalender.karlsruhe.de/db/termine/stadtleben/open_air_die_wilden_kerle_35mm
CLASS:PUBLIC
DTSTART:20260613T210000
DTEND:
DTSTAMP:20260316T084432
CATEGORIES:Stadtleben
ATTACH:https://kalender.karlsruhe.de/db/termine/stadtleben/open_air_die_wilden_kerle_35mm/file/icon_DiewildenKerle_Still_1.jpg
END:VEVENT

END:VCALENDAR
