BEGIN:VCALENDAR
VERSION:2.0
CALSCALE:GREGORIAN
PRODID:https://kalender.karlsruhe.de/db/termine/
METHOD:PUBLISH
BEGIN:VEVENT
UID:580082
ORGANIZER;CN=Kino im Blauen Salon:MAILTO:info@kinoimblauensalon.de
LOCATION:Blauer Salon in der HfG Karlsruhe
SUMMARY:OPEN AIR: Kult Sneak
DESCRIPTION;ENCODING=QUOTED-PRINTABLE:Mit Gewinnspiel und fragw=C3=BCrdigen Preisen!=0D=0A=0D=0A  Unvergesslich\, schwer v
 ermisst oder noch nie gesehen: Aus Jahrzehnten der Filmgeschichte bringen w
 ir euch einen eurer Lieblings-Kultfilmklassiker zur=C3=BCck auf den AirScre
 en! Auch dieses Jahr hat das Team vom Blauen Salon eine besondere =C3=9Cber
 raschung aus den Tiefen der Archive herausgekramt. Spannung\, Spa=C3=9F und 
 nostalgische Gef=C3=BChle f=C3=BCr Kino- und Open Air Liebhaber:innen sind 
 garantiert. Denn wir wissen\, wie sehr ihr es liebt zu raten und zu r=C3=A4t
 seln\, welcher Film denn dieses mal unsere KULT SNEAK sein k=C3=B6nnte...   
  Also begebt euch auf die Wiese vor der HfG\, macht es euch ab 20 Uhr mit Ba
 r\, Snacks und DJs gem=C3=BCtlich und sp=C3=BCrt die Spannung steigen\, bis s
 ich der imagin=C3=A4re Vorhang wie immer um 21 Uhr hebt und das Geheimnis u
 m den diesj=C3=A4hrigen Klassiker gel=C3=BCftet wird!    Das Kino im Blauen
  Salon ist das studentische Kino der HfG Karlsruhe.=C2=A0Unter dem Motto "A
 ller Anfang ist sch=C3=B6n!" widmet sich diese=C2=A0Spielzeit ganz dem Them
 a Regiedeb=C3=BCt.=C2=A0Die Programmarbeit der Studierenden wurde 2024 von 
 der Deutschen Kinemathek mit dem 1. Preis in der Kategorie =E2=80=9EKino da
 s zur=C3=BCckblickt=E2=80=9C ausgezeichnet.      Mehr Infos unter www.kinoi
 mblauensalon.de =20
URL:https://kalender.karlsruhe.de/db/termine/stadtleben/open_air_kult_sneak
CLASS:PUBLIC
DTSTART:20260618T210000
DTEND:
DTSTAMP:20260316T084432
CATEGORIES:Stadtleben
ATTACH:https://kalender.karlsruhe.de/db/termine/stadtleben/open_air_kult_sneak/file/icon_Open Air Kino 2023 Wiese Publikum von hinten.jpg
END:VEVENT

END:VCALENDAR
