BEGIN:VCALENDAR
VERSION:2.0
CALSCALE:GREGORIAN
PRODID:https://kalender.karlsruhe.de/db/termine/
METHOD:PUBLISH
BEGIN:VEVENT
UID:580083
ORGANIZER;CN=Kino im Blauen Salon:MAILTO:info@kinoimblauensalon.de
LOCATION:Blauer Salon in der HfG Karlsruhe
SUMMARY:OPEN AIR: Mad Max (35mm engl. OF)
DESCRIPTION;ENCODING=QUOTED-PRINTABLE:Australien 1979\, Regie: George Miller=0D=0A=0D=0A  Max patrouilliert durch eine kar
 ge\, staubige Welt\, in der Benzin und Gewalt kostbarer sind als Moral. Die H
 ighways sind Jagdgr=C3=BCnde f=C3=BCr Banden und Polizei\, verlorene Existen
 zen treiben durch eine Gesellschaft\, die sich selbst =C3=BCberlassen bleibt
 . Zwischen Motorenl=C3=A4rm\, Explosionen und wachsender Brutalit=C3=A4t zer
 bricht sein Glaube an Ordnung. Als bei einem Einsatz sein bester Freund sti
 rbt und der sadistische Toecutter seine Familie zerst=C3=B6rt\, wird aus Max
  =E2=80=9EMad Max=E2=80=9C\, der bewaffnet und von Rache getrieben durch die
  gl=C3=BChenden Stra=C3=9Fen Australiens zieht\, um die Banden zu jagen und 
 die Gerechtigkeit wiederherzustellen.      Mad Max    ist das kompromisslos
 e Deb=C3=BCt von Regisseur George Miller. Mit minimalistischem Storytelling
 \, gnadenlosen Verfolgungsjagden und roher Gewalt etabliert er einen eigenst
 =C3=A4ndigen Endzeitstil und macht den apokalyptischen Roadmovie popul=C3
 =A4r. Der Film markiert einen Wendepunkt im Actiongenre\, beeinflusst sp=C3
 =A4tere Blockbuster und lenkt internationale Aufmerksamkeit auf das austral
 ische Kino\, w=C3=A4hrend er zugleich gesellschaftliche =C3=84ngste =C3=BCbe
 r Ressourcenknappheit\, Gewalt und den Zerfall der Ordnung eindringlich spie
 gelt.      Mad Max    ist Teil des all j=C3=A4hrlichen Open Airs auf der Wi
 ese vor der HfG. Dort erwarten euch ab 20 Uhr DJs\, Snacks\, eine Bar und noc
 h viel mehr.    Das Kino im Blauen Salon ist das studentische Kino der HfG 
 Karlsruhe.=C2=A0Unter dem Motto "Aller Anfang ist sch=C3=B6n!" widmet sich 
 diese=C2=A0Spielzeit ganz dem Thema Regiedeb=C3=BCt.=C2=A0Die Programmarbei
 t der Studierenden wurde 2024 von der Deutschen Kinemathek mit dem 1. Preis
  in der Kategorie =E2=80=9EKino das zur=C3=BCckblickt=E2=80=9C ausgezeichne
 t.      Mehr Infos unter www.kinoimblauensalon.de =20
URL:https://kalender.karlsruhe.de/db/termine/stadtleben/open_air_mad_max_35mm_engl_of
CLASS:PUBLIC
DTSTART:20260619T210000
DTEND:
DTSTAMP:20260316T084432
CATEGORIES:Stadtleben
ATTACH:https://kalender.karlsruhe.de/db/termine/stadtleben/open_air_mad_max_35mm_engl_of/file/icon_Mad Max_Still1.jpg
END:VEVENT

END:VCALENDAR
