BEGIN:VCALENDAR
VERSION:2.0
CALSCALE:GREGORIAN
PRODID:https://kalender.karlsruhe.de/db/termine/
METHOD:PUBLISH
BEGIN:VEVENT
UID:580086
ORGANIZER;CN=Kino im Blauen Salon:MAILTO:info@kinoimblauensalon.de
LOCATION:Blauer Salon in der HfG Karlsruhe
SUMMARY:OPEN AIR: Permanent Vacation (35mm OmU)
DESCRIPTION;ENCODING=QUOTED-PRINTABLE:USA 1980\, Regie: Jim Jarmusch=0D=0A=0D=0A  W=C3=A4hrend das Leben im =C3=BCberf=C3
 =BCllten und und hektischen Manhatten pulsiert\, herrschen in New Yorks Lowe
 r East Side\, nur wenige Blocks entfernt\, beklemmende Leere und Stille.     
 Permanent Vacation    verfolgt innerhalb zweieinhalb Tagen das Leben des Pr
 otagonisten Aloysious Parker\, einem jungen Menschen ohne Zuhause\, Ausbildun
 g oder Arbeit. Er streift rastlos durch die Stra=C3=9Fen\, immer ein wenig d
 em voraus\, was ihn zu verfolgen scheint. Allie\, der zu diesem Zeitpunkt 16 
 Jahre alt ist\, begegnete und lebte trotz seiner jungen Jahre bereits mit de
 n unterschiedlichsten Menschen zusammen. Wir werden Teil der Geschichten vo
 n Figuren\, die wie er aus der normativen Gesellschaft herausfallen.    Aus 
 der =C3=A4u=C3=9Ferst lebendigen New Yorker Postpunkszene Ende der Siebzige
 rjahre heraus zeichnet Jim Jarmusch in seinem lyrischen Filmdeb=C3=BCt das 
 fl=C3=BCchtige Coming-of-Age-Lebensgef=C3=BChl einer jungen Generation nach
  =E2=80=93 verk=C3=B6rpert von dem ebenso sensiblen wie selbstverliebten\, i
 n richtungsloser Dauerbewegung befindlichen Hauptdarsteller Chris Parker. E
 in von leiser Wehmut durchzogener\, traumwandlerisch inszenierter Film.     
  Permanent Vacation    ist Teil des all j=C3=A4hrlichen Open Airs auf der W
 iese vor der HfG. Dort erwarten euch ab 20 Uhr DJs\, Snacks\, eine Bar und no
 ch viel mehr.    Das Kino im Blauen Salon ist das studentische Kino der HfG
  Karlsruhe.=C2=A0Unter dem Motto "Aller Anfang ist sch=C3=B6n!" widmet sich
  diese=C2=A0Spielzeit ganz dem Thema Regiedeb=C3=BCt.=C2=A0Die Programmarbe
 it der Studierenden wurde 2024 von der Deutschen Kinemathek mit dem 1. Prei
 s in der Kategorie =E2=80=9EKino das zur=C3=BCckblickt=E2=80=9C ausgezeichn
 et.      Mehr Infos unter www.kinoimblauensalon.de =20
URL:https://kalender.karlsruhe.de/db/termine/stadtleben/open_air_permanent_vacation_35mm_omu
CLASS:PUBLIC
DTSTART:20260622T210000
DTEND:
DTSTAMP:20260316T084432
CATEGORIES:Stadtleben
ATTACH:https://kalender.karlsruhe.de/db/termine/stadtleben/open_air_permanent_vacation_35mm_omu/file/icon_PermanentVacation_Still_1.jpg
END:VEVENT

END:VCALENDAR
