BEGIN:VCALENDAR
VERSION:2.0
CALSCALE:GREGORIAN
PRODID:https://kalender.karlsruhe.de/db/termine/
METHOD:PUBLISH
BEGIN:VEVENT
UID:580085
ORGANIZER;CN=Kino im Blauen Salon:MAILTO:info@kinoimblauensalon.de
LOCATION:Blauer Salon in der HfG Karlsruhe
SUMMARY:OPEN AIR: The Virgin Suicides (35mm engl. OF)
DESCRIPTION;ENCODING=QUOTED-PRINTABLE:USA 1999\, Regie: Sofia Coppola=0D=0A=0D=0A  Zwischen sehnsuchtsvollen Tr=C3=A4umen 
 und der tristen Wirklichkeit des konservativen Vorstadtlebens der 1970er Ja
 hre wachsen die f=C3=BCnf Schwestern der Familie Lisbon auf. Isoliert vom R
 est der Welt und den Gefahren\, die laut ihren religi=C3=B6sen und =C3=BCber
 f=C3=BCrsorglichen Eltern in ihr lauern. Insbesondere von ihren m=C3=A4nnli
 chen Altersgenossen m=C3=BCssen sie sich fernhalten. F=C3=BCr die Jungs aus
  der Nachbarschaft sind M=C3=A4dchen im Allgemeinen und die Lisbon-Schweste
 rn im Besonderen mystische und unergr=C3=BCndbare Wesen nicht zuletzt wegen
  deren Unerreichbarkeit. Als sich die erste Schwester das Leben nimmt\, setz
 t das eine unheimliche Kettenreaktion in Gang.    Mit ihrem Deb=C3=BCtfilm 
 erforschte Sofia Coppola die =C3=84sthetik der Weiblichkeit und gleichzeiti
 g das Innenleben junger Frauen. Als Adaption des beliebten ersten Romans vo
 n Jeffrey Eugenides beschw=C3=B6rt     The Virgin Suicide    s die unbeschr
 eibliche Melancholie der Sehns=C3=BCchte von Teenagern herauf.      The Vir
 gin Suicides    ist Teil des all j=C3=A4hrlichen Open Airs auf der Wiese vo
 r der HfG. Dort erwarten euch ab 20 Uhr DJs\, Snacks\, eine Bar und noch viel
  mehr.    Das Kino im Blauen Salon ist das studentische Kino der HfG Karlsr
 uhe.=C2=A0Unter dem Motto "Aller Anfang ist sch=C3=B6n!" widmet sich diese
 =C2=A0Spielzeit ganz dem Thema Regiedeb=C3=BCt.=C2=A0Die Programmarbeit der
  Studierenden wurde 2024 von der Deutschen Kinemathek mit dem 1. Preis in d
 er Kategorie =E2=80=9EKino das zur=C3=BCckblickt=E2=80=9C ausgezeichnet.   
    Mehr Infos unter www.kinoimblauensalon.de =20
URL:https://kalender.karlsruhe.de/db/termine/stadtleben/open_air_the_virgin_suicides_35mm_engl_of
CLASS:PUBLIC
DTSTART:20260621T210000
DTEND:
DTSTAMP:20260316T084432
CATEGORIES:Stadtleben
ATTACH:https://kalender.karlsruhe.de/db/termine/stadtleben/open_air_the_virgin_suicides_35mm_engl_of/file/icon_TheVirginSuicides_Still_7.jpg
END:VEVENT

END:VCALENDAR
