BEGIN:VCALENDAR
VERSION:2.0
CALSCALE:GREGORIAN
PRODID:https://kalender.karlsruhe.de/db/termine/
METHOD:PUBLISH
BEGIN:VEVENT
UID:580084
ORGANIZER;CN=Kino im Blauen Salon:MAILTO:info@kinoimblauensalon.de
LOCATION:Blauer Salon in der HfG Karlsruhe
SUMMARY:OPEN AIR: Wanda (35mm engl. OF)
DESCRIPTION;ENCODING=QUOTED-PRINTABLE:USA 1970\, Regie: Barbara Loden=0D=0A=0D=0A  Wanda (gespielt von Regisseurin Barbara
  Loden selbst) haust mit ihrem Mann und zwei Kindern in einer Baracke in ei
 nem tristen Kohlebergbaugebiet. Da sie die Hausarbeit liegen l=C3=A4sst\, re
 icht ihr Mann die Scheidung ein. Wanda gibt ihr bisheriges Leben auf\, verzi
 chtet auf das Sorgerecht f=C3=BCr ihre Kinder =E2=80=93 =E2=80=9Ethey are b
 etter off with him=E2=80=9C =E2=80=93 verliert ihren Job und driftet nur au
 f sich gestellt durch das =C3=A4rmliche Pennsylvania. Als sie in einer Bar 
 auf einen Gelegenheitsgauner trifft\, l=C3=A4sst sie sich in einen Bankraub 
 hineinziehen.    Barbara Lodens unsentimentales Regiedeb=C3=BCt ist ihr ein
 ziger Langfilm geblieben und gilt heute als einer der wichtigsten Filme des
  US-amerikanischen Independent-Kinos der 70er Jahre. "Das Wunder liegt f=C3
 =BCr mich nicht in der Art des Spiels sondern darin\, da=C3=9F sie im Film\, 
 [...] noch mehr sie selbst ist\, als sie es im Leben gewesen sein mu=C3=9F[.
 ..]. Ich insistiere so darauf\, weil mich das sehr aufgew=C3=BChlt hat. Es i
 st\, als erreiche sie in dem Film eine Art Sakralisierung dessen\, was sie al
 s einen Zustand des Verfalls zeigen will\, was aber\, wie ich finde\, etwas He
 rrliches ist\, ein sehr\, sehr starker\, sehr heftiger und sehr tiefer Glanz.
 =E2=80=9C (Marguerite Duras)      Wanda    ist Teil des all j=C3=A4hrlichen
  Open Airs auf der Wiese vor der HfG. Dort erwarten euch ab 20 Uhr DJs\, Sna
 cks\, eine Bar und noch viel mehr.    Das Kino im Blauen Salon ist das stude
 ntische Kino der HfG Karlsruhe.=C2=A0Unter dem Motto "Aller Anfang ist sch
 =C3=B6n!" widmet sich diese=C2=A0Spielzeit ganz dem Thema Regiedeb=C3=BCt.
 =C2=A0Die Programmarbeit der Studierenden wurde 2024 von der Deutschen Kine
 mathek mit dem 1. Preis in der Kategorie =E2=80=9EKino das zur=C3=BCckblick
 t=E2=80=9C ausgezeichnet.      Mehr Infos unter www.kinoimblauensalon.de 
 =20
URL:https://kalender.karlsruhe.de/db/termine/stadtleben/open_air_wanda_35mm_engl_of
CLASS:PUBLIC
DTSTART:20260620T210000
DTEND:
DTSTAMP:20260316T084432
CATEGORIES:Stadtleben
ATTACH:https://kalender.karlsruhe.de/db/termine/stadtleben/open_air_wanda_35mm_engl_of/file/icon_Wanda_Still_2.jpg
END:VEVENT

END:VCALENDAR
