BEGIN:VCALENDAR
VERSION:2.0
CALSCALE:GREGORIAN
PRODID:https://kalender.karlsruhe.de/db/termine/
METHOD:PUBLISH
BEGIN:VEVENT
UID:578135
ORGANIZER;CN=HWK Gärtnerei Grötzingen:MAILTO:gaertnerei@hwk.com
LOCATION:HWK Gärtnerei Grötzingen
SUMMARY:Räuchern in den Raunächten
DESCRIPTION;ENCODING=QUOTED-PRINTABLE:in der HWK G=C3=A4rtnerei=0D=0A=0D=0A  Raun=C3=A4chte sind derzeit in aller Munde. 
 Eine Zeit mit einem besonderen Zauber. Was die Raun=C3=A4chte sind und wie 
 du die Raun=C3=A4chte am besten f=C3=BCr dich nutzt\, lernst du in diesem Wo
 rkshop. Du erf=C3=A4hrst auch\, wie das R=C3=A4uchern dich dabei unterst=C3
 =BCtzen kann und welches R=C3=A4ucherwerk die richtige Wahl f=C3=BCr diese 
 Zeit ist.    Kosten:=C2=A039 Euro    Anmeldung:      Eine=C2=A0verbindliche
  Anmeldung=C2=A0erfolgt per=C2=A0E-Mail an=C2=A0gaertnerei@hwk.com.      Mi
 t Ihrer Anmeldung erkl=C3=A4ren Sie sich mit unseren Teilnahmebedingungen e
 inverstanden. Wir danken f=C3=BCr Ihr Verst=C3=A4ndnis und freuen uns auf e
 inen inspirierenden\, kreativen Workshop mit Ihnen!   =20
URL:https://kalender.karlsruhe.de/db/termine/stadtleben/rauchern_in_den_raunachten
CLASS:PUBLIC
DTSTART:20261212T110000
DTEND:20261212T130000
DTSTAMP:20260120T120029
CATEGORIES:Stadtleben
ATTACH:https://kalender.karlsruhe.de/db/termine/stadtleben/rauchern_in_den_raunachten/file/icon_Workshops_Räuchern_Bildquelle_Elemi Räucherdüfte.jpg
END:VEVENT

END:VCALENDAR
