BEGIN:VCALENDAR
VERSION:2.0
CALSCALE:GREGORIAN
PRODID:https://kalender.karlsruhe.de/db/termine/
METHOD:PUBLISH
BEGIN:VEVENT
UID:580680
ORGANIZER;CN=Stiftung Forum Recht, Karlsruhe:MAILTO:
LOCATION:Tourist-Information am Marktplatz
SUMMARY:Recht stadtlich!
DESCRIPTION;ENCODING=QUOTED-PRINTABLE:Europa Edition=0D=0A=0D=0A  Zum Europatag bietet die Stiftung am     Samstag\, 09. M
 ai\, 11:00 Uhr    \, eine besondere Ausgabe von =E2=80=9ERecht stadtlich!=E2
 =80=9C in Karlsruhe an\, bei der Europa und das europ=C3=A4ische Recht im Mi
 ttelpunkt stehen. Die Teilnehmenden erfahren bei dem Rundgang\, wer rechtlic
 h in Europa wof=C3=BCr zust=C3=A4ndig ist und was das europ=C3=A4ische Rech
 t mit unserem Alltag zu tun hat.    Die F=C3=BChrungen sind auf Deutsch. Te
 ilnehmende sollten dem Wetter entsprechende Kleidung tragen. Witterungsbedi
 ngte =C3=84nderungen teilt die Stiftung Forum Recht auf ihrer Webseite sowi
 e =C3=BCber ihre Social-Media-Kan=C3=A4le mit.    Der Rundgang ist kostenfr
 ei. Eine Anmeldung ist nicht erforderlich.       Die Wegstrecke ist barrier
 earm konzipiert (Infos auf der Website). =20
URL:https://kalender.karlsruhe.de/db/termine/stadtleben/recht_stadtlich-1
CLASS:PUBLIC
DTSTART:20260509T110000
DTEND:20260509T130000
DTSTAMP:20260407T112030
CATEGORIES:Stadtleben
ATTACH:https://kalender.karlsruhe.de/db/termine/stadtleben/recht_stadtlich-1/file/icon_Stadtrundgang Karlsruhe_ Logo.jpg
END:VEVENT

END:VCALENDAR
