BEGIN:VCALENDAR
VERSION:2.0
CALSCALE:GREGORIAN
PRODID:https://kalender.karlsruhe.de/db/termine/
METHOD:PUBLISH
BEGIN:VEVENT
UID:578920
ORGANIZER;CN=Forstamt Stadt Karlsruhe:MAILTO:waldpaedagogik@fa.karlsruhe.de
LOCATION:Stupferich
SUMMARY:Schlaraffenland am Waldesrand
DESCRIPTION;ENCODING=QUOTED-PRINTABLE:f=C3=BCr Erwachsene und Familien mit Kindern ab 10 Jahren=0D=0A=0D=0A  Im Herbst is
 t im Wald der Tisch gedeckt und das nicht nur f=C3=BCr die Tiere! Wir spazi
 eren entlang eines abwechslungsreichen Waldrandes im Stupfericher Wald und 
 entdecken\, was er kulinarisch zu bieten hat. Gemeinsam bestimmen wir die St
 r=C3=A4ucher am Wegesrand und ihre Fr=C3=BCchte\, tauschen Rezepte aus und g
 enie=C3=9Fen bei einem gem=C3=BCtlichen Picknick=C2=A0 verschiedene =E2=80
 =9EWaldrandprodukte=E2=80=9C.      Referentin:    Stephanie Bauer\, F=C3=B6r
 sterin\, zust=C3=A4ndig f=C3=BCr Wald=C3=B6kologie\, Klimafolgenmanagement un
 d=C2=A0 Verkehrssicherung im Forstamt der Stadt Karlsruhe    Anmeldung auf 
 der Homepage bis 21. September      Wir bitten um eine Spende f=C3=BCr das 
 Picknick!   =20
URL:https://kalender.karlsruhe.de/db/termine/stadtleben/schlaraffenland_am_waldesrand
CLASS:PUBLIC
DTSTART:20260926T140000
DTEND:20260926T163000
DTSTAMP:20260211T095742
CATEGORIES:Stadtleben
ATTACH:https://kalender.karlsruhe.de/db/termine/stadtleben/schlaraffenland_am_waldesrand/file/icon_26-09-26-Waldpaedagogik_KA_Schlaraffenland_am_Waldesrand_zug.jpg
END:VEVENT

END:VCALENDAR
