BEGIN:VCALENDAR
VERSION:2.0
CALSCALE:GREGORIAN
PRODID:https://kalender.karlsruhe.de/db/termine/
METHOD:PUBLISH
BEGIN:VEVENT
UID:567630
ORGANIZER;CN=KME Karlsruhe Marketing und Event GmbH:MAILTO:info@karlsruhe-event.de
LOCATION:Schloss Karlsruhe und Innenstadt
SUMMARY:SCHLOSSLICHTSPIELE Light Festival Karlsruhe 2026
DESCRIPTION;ENCODING=QUOTED-PRINTABLE:Auch in diesem Jahr kehren die SCHLOSSLICHTSPIELE Karlsruhe wieder auf die 
 barocke Fassade des Karlsruher Schlosses zur=C3=BCck und verwandeln sie in 
 ein digitales Kunstwerk.=0D=0A=0D=0A  Vom 13. August bis 13. September 2026 verwand
 elt sich die=C2=A0ganze Karlsruher Innenstadt im Rahmen des SCHLOSSLICHTSPI
 ELE Light Festivals in eine=C2=A0dezentrale B=C3=BChne und Ausstellungsfl
 =C3=A4che f=C3=BCr Medienkunst\, Illuminationen und leuchtende Aktionen.    
 Die     SCHLOSSLICHTSPIELE Karlsruhe    kehren dann zum 12. Mal auf die bar
 ocke Fassade des Karlsruher Schlosses zur=C3=BCck und verwandelten sie in e
 in digitales Kunstwerk f=C3=BCr zahlreiche Besucherinnen und Besucher aus a
 ller Welt.    Das vollst=C3=A4ndige Programm finden Sie unter         www.s
 chlosslichtspiele.info      Die SCHLOSSLICHTSPIELE Karlsruhe fanden 2015 zu
 m 300. Stadtgeburtstag erstmals statt und begeistern seitdem jeden Sommer d
 as Publikum. Schon =C3=BCber eine Million Menschen haben das Kunsterlebnis 
 auf der 170 Meter langen barocken Schlossfassade besucht.        Foto: Scie
 nce for Impact - Los Romeras\, =E2=80=93 =C2=A0SCHLOSSLICHTSPIELE Light Fest
 ival Karlsruhe 2025 | KME Karlsruhe Marketing und Event GmbH =E2=80=93 J=C3
 =BCrgen R=C3=B6sner =20
URL:https://kalender.karlsruhe.de/db/termine/stadtleben/schlosslichtspiele_light_festival_karlsruhe2026n
CLASS:PUBLIC
DTSTART:20260813T000000
DTEND:20260913T000000
DTSTAMP:20260113T155449
CATEGORIES:Stadtleben
ATTACH:https://kalender.karlsruhe.de/db/termine/stadtleben/schlosslichtspiele_light_festival_karlsruhe2026n/file/icon_SLS_KME_2025_JürgenRösner_0348.jpg
END:VEVENT

END:VCALENDAR
