BEGIN:VCALENDAR
VERSION:2.0
CALSCALE:GREGORIAN
PRODID:https://kalender.karlsruhe.de/db/termine/
METHOD:PUBLISH
BEGIN:VEVENT
UID:578134
ORGANIZER;CN=HWK Gärtnerei Grötzingen:MAILTO:gaertnerei@hwk.com
LOCATION:HWK Gärtnerei Grötzingen
SUMMARY:Schmuck-Workshop
DESCRIPTION;ENCODING=QUOTED-PRINTABLE:Ring aus Swarovski-Perlen=0D=0A=0D=0A  Wir fertigen in geselliger Runde einen edlen
  Ring aus Swarovski-Perlen. Aus funkelnden Kristallglasperlen mit einzigart
 igem Diamantschliff f=C3=A4deln Sie unter Anleitung Ihren pers=C3=B6nlichen
  Lieblingsring. Es stehen verschiedene Modelle zur Auswahl\, ebenso Swarovsk
 i-Perlen in vielen Farben\, Gr=C3=B6=C3=9Fen und Formen.    Kosten:=C2=A029
 =E2=82=AC plus Materialkosten\, die sich nach dem Verbrauch richten\, je nach
  Modell zwischen 8 und 20=E2=82=AC    Anmeldung:      Eine=C2=A0verbindlich
 e Anmeldung=C2=A0erfolgt per=C2=A0E-Mail an=C2=A0gaertnerei@hwk.com.      M
 it Ihrer Anmeldung erkl=C3=A4ren Sie sich mit unseren Teilnahmebedingungen 
 einverstanden. Wir danken f=C3=BCr Ihr Verst=C3=A4ndnis und freuen uns auf 
 einen inspirierenden\, kreativen Workshop mit Ihnen!   =20
URL:https://kalender.karlsruhe.de/db/termine/stadtleben/schmuck_workshop
CLASS:PUBLIC
DTSTART:20261205T110000
DTEND:20261205T130000
DTSTAMP:20260119T095603
CATEGORIES:Stadtleben
ATTACH:https://kalender.karlsruhe.de/db/termine/stadtleben/schmuck_workshop/file/icon_Schmuckworkshop_Bildquelle_HWK gGmbH.jpg
END:VEVENT

END:VCALENDAR
